Workbook
Name Adjusted_regulated_tax_liability: 'R8 - Tax'!$E$36:$I$36
Name Adjusted_regulated_tax_liability__Reporting_Year: 'R8 - Tax'!$E$36:$I$36
Name ARCMt: #REF!
Name ARtDR5: #REF!
Name AUM: #REF!
Name BMt_2: #REF!
Name BPC: #REF!
Name Business_Plan_Incentive: 'R1 - RoRE'!$D$71:$H$71
Name calendar_year: Data!$F$33:$L$33
Name CAS: #REF!
Name CGSPM: #REF!
Name CGSRA: #REF!
Name CIA: #REF!
Name CIB: #REF!
Name CIBt_2: #REF!
Name CIBt_3: #REF!
Name CIBt_4: #REF!
Name CIC: #REF!
Name CID: #REF!
Name CIE: #REF!
Name CIM: #REF!
Name CMLA: #REF!
Name CMLB: #REF!
Name CMLBt_2: #REF!
Name CMLBt_3: #REF!
Name CMLBt_4: #REF!
Name CMLC: #REF!
Name CMLD: #REF!
Name CMLE: #REF!
Name Combined_real_to_nominal_prices_conversion_factor__financial_year_end: Data!$F$36:$L$36
Name Corporate_Tax: Data!$C$13:$N$13
Name Cost_of_Equity: Data!$C$6
Name CPIRt: #REF!
Name CRC5B: #REF!
Name CRC5C: #REF!
Name CRC5E: #REF!
Name CRIRt: #REF!
Name CSADt: #REF!
Name CSAUt: #REF!
Name CSBDt: #REF!
Name CSBUt: #REF!
Name CSCDt: #REF!
Name CSCUt: #REF!
Name CT: #REF!
Name Debt_performance___at_notional_gearing: 'R1 - RoRE'!$D$90:$H$90
Name Debt_performance___impact_of_actual_gearing: 'R1 - RoRE'!$D$91:$H$91
Name DecimalPlaces: #REF!
Name DLGT: #REF!
Name DNOName: #REF!
Name DR5Q: #REF!
Name ENIA: #REF!
Name Equity_RAV_based_on_actual_gearing: 'R1 - RoRE'!$D$97:$H$97
Name Equity_Return_on_the_RAV: 'R1 - RoRE'!$D$69:$H$69
Name ESTR: #REF!
Name FPPR: #REF!
Name GAS: #REF!
Name GIM: #REF!
Name GPIRt: #REF!
Name GRIRt: #REF!
Name GTA: #REF!

Sheet RFPR cover
A2: Regulatory Financial Performance Report
A3: =Licensee -> NGET (TO)
B6: RIIO-2 start date (enter 2022 for 2021-22) | C6: {=INDEX(Data!$E$63:'Data'!$E$91,MATCH(Licensee,Data!$B$63:$B$91,0),0)} -> 2022
B7: Licensee | C7: NGET (TO) | G7: Input cells
B8: Sector | C8: =INDEX(Data!$A$63:$A$91,MATCH($C$7,Data!$B$63:$B$91,0),0)&"2" -> ET2 | G8: Totals cells (of formula within worksheet)
B9: Reporting Year: (e.g. enter 2022 for 2021-22) | C9: 2026 | G9: Linked cells
B10: Version (Number) | G10: Referencing to other workbooks (Eg. PCFM/ RRP)
B11: Submitted Date: | G11: Check cells
G12: No Input
G13: Descriptions and pack data

Sheet Data
A1: Network Operator Data
A2: =Licensee -> NGET (TO)
A3: =Reporting_Year -> 2026
B6: Cost of Equity | C6: =INDEX(O63:U91,MATCH(Licensee,Data!B63:B91,0),MATCH(Reporting_Year,Data!O62:U62,0)) -> 0.050933685 | F6: check £m | H6: ED | I6: £m 20/21
B7: Sharing Factor | C7: =SUMIF(Data!$B$62:$B$91,'RFPR cover'!C7,Data!$C$62:$C$91) -> 0.67 | F7: 0.1 | H7: ET | I7: £m 18/19
B8: Notional Gearing | C8: =SUMIF(Data!$B$62:$B$91,'RFPR cover'!C7,Data!$D$62:$D$91) -> 0.55 | H8: GD | I8: £m 18/19
B9: Price basis | C9: =INDEX(Data!$F$63:$F$91,MATCH('RFPR cover'!$C$7,Data!$B$63:$B$91,0),0) -> £m 18/19 | H9: GT | I9: £m 18/19
B10: Deadband threshold for materiality checks for use in R8a (Rows 31-93) | C10: 20.174788 | H10: ESO | I10: £m 18/19
B11: Deadband threshold for use in R8a (Row 95) | C11: 6.7249294
B13: Corporate Tax | C13: 0.19 | D13: 0.19 | E13: 0.19 | F13: 0.19 | G13: 0.19 | H13: 0.25 | I13: 0.25 | J13: 0.25 | K13: 0.25 | L13: 0.25 | M13: 0.25 | N13: 0.25
A15: GD&T | B15: Price indices*
B16: Actual / Forecast index | C16: =IF(VALUE(C18)<=Reporting_Year,"Actual","Forecast") -> Actual | D16: =IF(VALUE(D18)<=Reporting_Year,"Actual","Forecast") -> Actual | E16: =IF(VALUE(E18)<=Reporting_Year,"Actual","Forecast") -> Actual | F16: =IF(VALUE(F18)<=Reporting_Year,"Actual","Forecast") -> Actual | G16: =IF(VALUE(G18)<=Reporting_Year,"Actual","Forecast") -> Actual | H16: =IF(VALUE(H18)<=Reporting_Year,"Actual","Forecast") -> Actual | I16: =IF(VALUE(I18)<=Reporting_Year,"Actual","Forecast") -> Actual | J16: =IF(VALUE(J18)<=Reporting_Year,"Actual","Forecast") -> Actual | ... N16: =IF(VALUE(N18)<=Reporting_Year,"Actual","Forecast") -> Forecast
B17: Year end | C17: 43555 | D17: 43921 | E17: 44286 | F17: 44651 | G17: 45016 | H17: 45382 | I17: 45747 | J17: 46112 | K17: 46477 | L17: 46843 | M17: 47208 | N17: 47573
B18: Reporting Year | C18: 2019 | D18: 2020 | E18: 2021 | F18: 2022 | G18: 2023 | H18: 2024 | I18: 2025 | J18: 2026 | K18: 2027 | L18: 2028 | M18: 2029 | N18: 2030
B19: Financial Year Average RPI - CPIH (PIt) | C19: 283.30833 | D19: 290.64167 | E19: 294.16667 | F19: 307.32821 | G19: 334.29358 | H19: 352.83652 | I19: 364.17963 | J19: 377.96797 | K19: =J19*(1+K$22) -> 385.52733 | L19: =K19*(1+L$22) -> 393.23787 | M19: =L19*(1+M$22) -> 401.10263 | N19: =M19*(1+N$22) -> 409.12468
B20: Combined RPI-CPIH price index (financial year end) | C20: 286.65 | D20: 292.6 | E20: 298.42363 | F20: 319.91658 | G20: 346.54233 | H20: 358.36091 | I20: 371.94548 | J20: 383.8999 | K20: =J20*(1+K$22) -> 391.57789 | L20: =K20*(1+L$22) -> 399.40945 | M20: =L20*(1+M$22) -> 407.39764 | N20: =M20*(1+N$22) -> 415.54559
B21: Consumer Prices Index incl. housing costs (financial year average) | C21: 106.43333 | D21: 108.24167 | E21: 109.10833 | F21: 113.11667 | G21: 123.04167 | H21: 129.86667 | I21: 134.04167 | J21: 139.11667 | K21: =J21*(1+K$22) -> 141.899 | L21: =K21*(1+L$22) -> 144.73698 | M21: =L21*(1+M$22) -> 147.63172 | N21: =M21*(1+N$22) -> 150.58435
B22: Long term CPIH inflation forecast | K22: 0.02 | L22: 0.02 | M22: 0.02 | N22: 0.02 | O22: LTCPIHt
A24: ED2 | B24: Price Indices*
B25: Actual / Forecast index | C25: =IF(VALUE(C27)<=Reporting_Year,"Actual","Forecast") -> Actual | D25: =IF(VALUE(D27)<=Reporting_Year,"Actual","Forecast") -> Actual | E25: =IF(VALUE(E27)<=Reporting_Year,"Actual","Forecast") -> Actual | F25: =IF(VALUE(F27)<=Reporting_Year,"Actual","Forecast") -> Actual | G25: =IF(VALUE(G27)<=Reporting_Year,"Actual","Forecast") -> Actual | H25: =IF(VALUE(H27)<=Reporting_Year,"Actual","Forecast") -> Actual | I25: =IF(VALUE(I27)<=Reporting_Year,"Actual","Forecast") -> Actual | J25: =IF(VALUE(J27)<=Reporting_Year,"Actual","Forecast") -> Actual | ... N25: =IF(VALUE(N27)<=Reporting_Year,"Actual","Forecast") -> Forecast
B26: Year end | C26: 43555 | D26: 43921 | E26: 44286 | F26: 44651 | G26: 45016 | H26: 45382 | I26: 45747 | J26: 46112 | K26: 46477 | L26: 46843 | M26: 47208 | N26: 47573
B27: Reporting Year | C27: 2019 | D27: 2020 | E27: 2021 | F27: 2022 | G27: 2023 | H27: 2024 | I27: 2025 | J27: 2026 | K27: 2027 | L27: 2028 | M27: 2029 | N27: 2030
B28: Financial Year Average RPI - CPIH (PIt) | C28: 283.30833 | D28: 290.64167 | E28: 294.16667 | F28: 311.15833 | G28: 351.21667 | H28: 376.7165 | I28: 388.82732 | J28: 400.25 | K28: 408.5665 | L28: 416.71585 | M28: =L28*(1+M$22) -> 425.05017 | N28: =M28*(1+N$22) -> 433.55117
B29: Combined RPI-CPIH price index (financial year end) | C29: 286.65 | D29: 292.6 | E29: 299 | F29: 329.05 | G29: 369.68596 | H29: 382.61478 | I29: 395.31903 | J29: 404.48527 | K29: 412.61137 | L29: 420.50827 | M29: =L29*(1+M$22) -> 428.91844 | N29: =M29*(1+N$22) -> 437.49681
B31: Price Conversion Factors*
E32: =IF(E33<='RFPR cover'!$C$9,"Actuals","Forecast") -> Actuals | F32: =IF(F33<='RFPR cover'!$C$9,"Actuals","Forecast") -> Actuals | G32: =IF(G33<='RFPR cover'!$C$9,"Actuals","Forecast") -> Actuals | H32: =IF(H33<='RFPR cover'!$C$9,"Actuals","Forecast") -> Actuals | I32: =IF(I33<='RFPR cover'!$C$9,"Actuals","Forecast") -> Actuals | J32: =IF(J33<='RFPR cover'!$C$9,"Actuals","Forecast") -> Actuals | K32: =IF(K33<='RFPR cover'!$C$9,"Actuals","Forecast") -> Forecast | L32: =IF(L33<='RFPR cover'!$C$9,"Actuals","Forecast") -> Forecast
E33: 2021 | F33: =E33+1 -> 2022 | G33: =F33+1 -> 2023 | H33: =G33+1 -> 2024 | I33: =H33+1 -> 2025 | J33: =I33+1 -> 2026 | K33: =J33+1 -> 2027 | L33: =K33+1 -> 2028
D34: RPI-CPIH real to nominal prices CF | E34: =IF(SectorCov="ED2",E28/INDEX($C$28:$N$28,MATCH($E$27,$C$27:$N$27,0)),E19/INDEX($C$19:$N$19,MATCH($C$18,$C$18:$N$18,0))) -> 1.0383269 | F34: =IF(SectorCov="ED2",F28/INDEX($C$28:$N$28,MATCH($E$27,$C$27:$N$27,0)),F19/INDEX($C$19:$N$19,MATCH($C$18,$C$18:$N$18,0))) -> 1.0847835 | G34: =IF(SectorCov="ED2",G28/INDEX($C$28:$N$28,MATCH($E$27,$C$27:$N$27,0)),G19/INDEX($C$19:$N$19,MATCH($C$18,$C$18:$N$18,0))) -> 1.1799638 | H34: =IF(SectorCov="ED2",H28/INDEX($C$28:$N$28,MATCH($E$27,$C$27:$N$27,0)),H19/INDEX($C$19:$N$19,MATCH($C$18,$C$18:$N$18,0))) -> 1.2454152 | I34: =IF(SectorCov="ED2",I28/INDEX($C$28:$N$28,MATCH($E$27,$C$27:$N$27,0)),I19/INDEX($C$19:$N$19,MATCH($C$18,$C$18:$N$18,0))) -> 1.2854533 | J34: =IF(SectorCov="ED2",J28/INDEX($C$28:$N$28,MATCH($E$27,$C$27:$N$27,0)),J19/INDEX($C$19:$N$19,MATCH($C$18,$C$18:$N$18,0))) -> 1.3341223 | K34: =IF(SectorCov="ED2",K28/INDEX($C$28:$N$28,MATCH($E$27,$C$27:$N$27,0)),K19/INDEX($C$19:$N$19,MATCH($C$18,$C$18:$N$18,0))) -> 1.3608048 | L34: =IF(SectorCov="ED2",L28/INDEX($C$28:$N$28,MATCH($E$27,$C$27:$N$27,0)),L19/INDEX($C$19:$N$19,MATCH($C$18,$C$18:$N$18,0))) -> 1.3880209
D35: 1 year change in Fin Year Average RPI-CPIH | E35: =IF(Sector="ED2",INDEX(Data!$C$28:$N$28,MATCH(E$33,Data!$C$27:$N$27,0))/INDEX(Data!$C$28:$N$28,MATCH(E$33-1,Data!$C$27:$N$27,0)),INDEX(Data!$C$19:$N$19,MATCH(E$33,Data!$C$18:$N$18,0))/INDEX(Data!$C$19:$N$19,MATCH(E$33-1,Data!$C$18:$N$18,0))) -> 1.0121283 | F35: =IF(Sector="ED2",INDEX(Data!$C$28:$N$28,MATCH(F$33,Data!$C$27:$N$27,0))/INDEX(Data!$C$28:$N$28,MATCH(F$33-1,Data!$C$27:$N$27,0)),INDEX(Data!$C$19:$N$19,MATCH(F$33,Data!$C$18:$N$18,0))/INDEX(Data!$C$19:$N$19,MATCH(F$33-1,Data!$C$18:$N$18,0))) -> 1.0447418 | G35: =IF(Sector="ED2",INDEX(Data!$C$28:$N$28,MATCH(G$33,Data!$C$27:$N$27,0))/INDEX(Data!$C$28:$N$28,MATCH(G$33-1,Data!$C$27:$N$27,0)),INDEX(Data!$C$19:$N$19,MATCH(G$33,Data!$C$18:$N$18,0))/INDEX(Data!$C$19:$N$19,MATCH(G$33-1,Data!$C$18:$N$18,0))) -> 1.0877413 | H35: =IF(Sector="ED2",INDEX(Data!$C$28:$N$28,MATCH(H$33,Data!$C$27:$N$27,0))/INDEX(Data!$C$28:$N$28,MATCH(H$33-1,Data!$C$27:$N$27,0)),INDEX(Data!$C$19:$N$19,MATCH(H$33,Data!$C$18:$N$18,0))/INDEX(Data!$C$19:$N$19,MATCH(H$33-1,Data!$C$18:$N$18,0))) -> 1.055469 | I35: =IF(Sector="ED2",INDEX(Data!$C$28:$N$28,MATCH(I$33,Data!$C$27:$N$27,0))/INDEX(Data!$C$28:$N$28,MATCH(I$33-1,Data!$C$27:$N$27,0)),INDEX(Data!$C$19:$N$19,MATCH(I$33,Data!$C$18:$N$18,0))/INDEX(Data!$C$19:$N$19,MATCH(I$33-1,Data!$C$18:$N$18,0))) -> 1.0321484 | J35: =IF(Sector="ED2",INDEX(Data!$C$28:$N$28,MATCH(J$33,Data!$C$27:$N$27,0))/INDEX(Data!$C$28:$N$28,MATCH(J$33-1,Data!$C$27:$N$27,0)),INDEX(Data!$C$19:$N$19,MATCH(J$33,Data!$C$18:$N$18,0))/INDEX(Data!$C$19:$N$19,MATCH(J$33-1,Data!$C$18:$N$18,0))) -> 1.0378614 | K35: =IF(Sector="ED2",INDEX(Data!$C$28:$N$28,MATCH(K$33,Data!$C$27:$N$27,0))/INDEX(Data!$C$28:$N$28,MATCH(K$33-1,Data!$C$27:$N$27,0)),INDEX(Data!$C$19:$N$19,MATCH(K$33,Data!$C$18:$N$18,0))/INDEX(Data!$C$19:$N$19,MATCH(K$33-1,Data!$C$18:$N$18,0))) -> 1.02 | L35: =IF(Sector="ED2",INDEX(Data!$C$28:$N$28,MATCH(L$33,Data!$C$27:$N$27,0))/INDEX(Data!$C$28:$N$28,MATCH(L$33-1,Data!$C$27:$N$27,0)),INDEX(Data!$C$19:$N$19,MATCH(L$33,Data!$C$18:$N$18,0))/INDEX(Data!$C$19:$N$19,MATCH(L$33-1,Data!$C$18:$N$18,0))) -> 1.02
D36: Combined real to nominal prices conversion factor (financial year end) | E36: =IF(SectorCov="ED2",INDEX(Data!$C$29:$N$29,MATCH(E$33,Data!$C$27:$N$27,0))/Data!$E$28,INDEX(Data!$C$20:$N$20,MATCH(E$33,Data!$C$18:$N$18,0))/Data!$C$19) -> 1.0533528 | F36: =IF(SectorCov="ED2",INDEX(Data!$C$29:$N$29,MATCH(F$33,Data!$C$27:$N$27,0))/Data!$E$28,INDEX(Data!$C$20:$N$20,MATCH(F$33,Data!$C$18:$N$18,0))/Data!$C$19) -> 1.129217 | G36: =IF(SectorCov="ED2",INDEX(Data!$C$29:$N$29,MATCH(G$33,Data!$C$27:$N$27,0))/Data!$E$28,INDEX(Data!$C$20:$N$20,MATCH(G$33,Data!$C$18:$N$18,0))/Data!$C$19) -> 1.2231985 | H36: =IF(SectorCov="ED2",INDEX(Data!$C$29:$N$29,MATCH(H$33,Data!$C$27:$N$27,0))/Data!$E$28,INDEX(Data!$C$20:$N$20,MATCH(H$33,Data!$C$18:$N$18,0))/Data!$C$19) -> 1.2649148 | I36: =IF(SectorCov="ED2",INDEX(Data!$C$29:$N$29,MATCH(I$33,Data!$C$27:$N$27,0))/Data!$E$28,INDEX(Data!$C$20:$N$20,MATCH(I$33,Data!$C$18:$N$18,0))/Data!$C$19) -> 1.3128646 | J36: =IF(SectorCov="ED2",INDEX(Data!$C$29:$N$29,MATCH(J$33,Data!$C$27:$N$27,0))/Data!$E$28,INDEX(Data!$C$20:$N$20,MATCH(J$33,Data!$C$18:$N$18,0))/Data!$C$19) -> 1.3550604 | K36: =IF(SectorCov="ED2",INDEX(Data!$C$29:$N$29,MATCH(K$33,Data!$C$27:$N$27,0))/Data!$E$28,INDEX(Data!$C$20:$N$20,MATCH(K$33,Data!$C$18:$N$18,0))/Data!$C$19) -> 1.3821616 | L36: =IF(SectorCov="ED2",INDEX(Data!$C$29:$N$29,MATCH(L$33,Data!$C$27:$N$27,0))/Data!$E$28,INDEX(Data!$C$20:$N$20,MATCH(L$33,Data!$C$18:$N$18,0))/Data!$C$19) -> 1.4098048
B37: *Note: The price conversion factors are derived from price indices in line with the inflation methodology in the PCFM to reflect actuals through June sourced from Office of National Statistics i.e. ONS (Historical data - https://www.ons.gov.uk/economy/inflationandpriceindices/timeseries/l522/mm23) and the forecast from the Office of Budget Responsibility i.e. OBR (https://obr.uk/data). Please refer to chapter 2 of the Price Control Financial Handbook for more information.
B40: Allowed cost of debt %
C41: 2022 | D41: =C41+1 -> 2023 | E41: =D41+1 -> 2024 | F41: =E41+1 -> 2025 | G41: =F41+1 -> 2026 | H41: =G41+1 -> 2027 | I41: =H41+1 -> 2028
B42: SSES | E42: 0.0304 | F42: 0.0311 | G42: 0.0313 | H42: 0.0313 | I42: 0.0314
B43: NGED-EMID | E43: 0.0304 | F43: 0.0311 | G43: 0.0313 | H43: 0.0313 | I43: 0.0314
B44: UKPN-EPN | E44: 0.0304 | F44: 0.0311 | G44: 0.0313 | H44: 0.0313 | I44: 0.0314
B45: ED - excluding SSES,NGED-EMID,UKPN-EPN | E45: 0.031 | F45: 0.0317 | G45: 0.0319 | H45: 0.0319 | I45: 0.0319
B46: SHET | C46: 0.018184708 | D46: 0.015816904 | E46: 0.018016 | F46: 0.023111514 | G46: 0.02662107
B47: ET - excluding SHET | C47: 0.0205 | D47: 0.019 | E47: 0.0192 | F47: 0.0211 | G47: 0.0226
B48: GD | C48: 0.0205 | D48: 0.019 | E48: 0.0192 | F48: 0.0211 | G48: 0.0226
...

Sheet Content & Version Control
A1: Version control
A2: =Licensee -> NGET (TO)
A3: =Reporting_Year -> 2026
B6: Version:
B8: Submission | C8: Date submitted | D8: Changes
B9: Submission 1
B10: Submission 2
B11: Submission 3
B12: Submission 4
B13: Submission 5
B14: Submission 6
B15: Submission 7
B16: Submission 8
B17: Submission 9
B18: Submission 10
B21: R1 - RoRE
B22: R2 - Rec to Revenue and Profit
... B39: I2 - Monthly Inflation

Sheet Change log
A1: Change log
A2: =Licensee -> NGET (TO)
A3: =Reporting_Year -> 2026
A5: Version | B5: Table Reference | C5: Changes made to RFPR template | D5: Raised By
A6: V2.0 | B6: R2 - row 24 (RRt) | C6: Changed the description to add "per latest PCFM" for more clarity. Guidance document has also been amended. | D6: Ofgem
A7: V2.0 | B7: R8 - Row 21 | C7: Corrected cell references in formula | D7: Ofgem
A8: V2.0 | B8: R3 - row 116, 121, 133, 142 | C8: Changed the description to '[Input description, add additional rows as required]' | D8: Ofgem
A9: V2.0 | B9: R3 - Rows 36 and 37 | C9: Copied and rolled-over D36:D37 formula into future years | D9: Ofgem
A10: V2.0 | B10: R1 - J22:K28 and J49:K55 | C10: Corrected cell references in formula for 'cumulative' and RIIO-2 period' | D10: Ofgem
A11: V2.0 | B11: R2 - Rec to Revenue and Profit | C11: Row 103 formula corrected (was sum now difference) | D11: ESO/NGGT(TO)/NGGT(SO)/NGET(TO)
A12: V2.0 | B12: R3 - Row 194 & 196 | C12: Added formula/ corrected cell references in formula | D12: ESO/NGGT(TO)/SPT/NGET
A13: V2.0 | B13: R1 row 76 | C13: Formula in J75:K75 dragged down to populate row 76 which was blank. | D13: NGGT(SO)
A14: V2.0 | B14: R8 Row 21 | C14: Included if function because top half R8 only completed for actuals on a T+1 basis; therefore if forecast, amount should be zero | D14: WWU
A15: V2.0 | B15: R3 | C15: Formula in row 198 amended to compare to row 196 not 194 | D15: WWU/SPT
A16: V2.0 | B16: R7 - RAV | C16: Formulas in row 5 amended to reflect show that RAV totals in AIP 2021 PCFM are not actuals, therefore flag should remain as forecast until the AIP after the Reg year has passed (as was the case in RIIO-1). For example RAV value in 21/22 AIP for 21/22 was not an actual and therefore the check in row 27 should not be activated until the next regulatory year. AIP 2022 will contain the actual 21/22 RAV value and therefore a check to ensure this matches can be incorporated from 22/23 onwards. | D16: SPT
... A43: V2.0 | B43: Data M339- M367 | C43: Incorporated a new table to change values to nominal that feed into materiality check in row 95 (tax charge) | D43: Ofgem
B44: Data tab - Cell C10 | C44: Added to lookup deadband threshold values from Table 2 (M04-S332) for materiality checks for use in R8a (Rows 44-93) | D44: Ofgem
B45: Data tab - Cell C11 | C45: Added to lookup deadband threshold values from Table 3 (M04-S332) for materiality checks for use in R8a - Tax charge (Row95) | D45: Ofgem
A46: V2.0 | B46: Data D273-D274 | C46: Added in Data tab “Swap pay leg – finco back to back” in D273, and “Swap receive leg – finco back to back” in D274. | D46: Ofgem
A47: V2.0 | B47: R8a | C47: Previous version of Col I and J deleted | D47: Ofgem
A48: V2.0 | B48: R8a | C48: Deleted materiality checks from row 31 and above as it's not mandatory for licensees to explain those differences | D48: Ofgem
A49: V2.0 | B49: R8a | C49: Corrected formula in col L to look up correct cell references | D49: SPEN, ESO, NGET
A50: V2.0 | B50: R8a | C50: Removed the word 'turnover' in cells A35, A38 and A41 | D50: ESO, NGET
A51: V2.0 | B51: R8 | C51: Changed the label in cell B11 and description in cell J11 | D51: SPEN, ESO
A52: V2.0 | B52: R3 | C52: Labels are now fomula driven in cells B11 and B45 to include "repex" term only referring to GD2 | D52: SPEN
A53: V2.0 | B53: R8 - Cell J11 | C53: Comment amended to - "R8 row 11 must match with worksheet R8a row 95 minus regulatory adjustments." | D53: SPEN
A54: V2.0 | B54: R4 | C54: Added formulae/ logic to generate cumulative values in col I and J | D54: Ofgem
A55: v2.0 | B55: R6 | C55: 15/06/2023: Added in new section for reconciliation to statutory accounts: R6 cell B21: row label changed from "Total Debt per Statutory Accounts" to "Total Modelled Debt" R6 add in thirteen new rows below row 46 ("Closing regulatory net debt including forecast new debt/refinancing". These rows are headed "Conversion from Regulatory (RIIO-2) Definition of Net Debt to Statutory Net Debt" | D55: Ofgem
A56: v2.0 | B56: R5a | C56: 15/06/2023: Added in additional overwrite lines for Debt Interest Expense R5a add in five new rows below row 53. This adds in five new "Other adjustment (Overwrite)" lines above "Sub Total: "Debt Interest Expense" R5a row 59 "Sub Total: "Debt Interest Expense" formula amended to incorporate the five new rows. In Column M, changed from "=SUM(M40:M53)" to "=SUM(M40:M58)" and pasted across the row. | D56: Ofgem
A57: v2.0 | B57: R1-R10, F3-F6, I1-I2 | C57: Non-input cells have been password protected to prevent any over-writing | D57: Ofgem
... A132: v5.0 | B132: F5 - Inflation Linked Debt - BZ11:CR610; LH11:LY610; MB11:MS610; NP11:OG610 | C132: Formula amended to look up to columns I:K in Monthly Inflation | D132: Cadent

Sheet R1 - RoRE
A1: R1 - Return on Regulatory Equity (RoRE)
A2: =Licensee -> NGET (TO)
A3: =Reporting_Year -> 2026 | B3: =IF(Licensee=Data!$B$86,"Only required to be completed to show Operational Performance","")
D5: =IF(D6<=Reporting_Year,"Actuals","Forecast") -> Actuals | E5: =IF(E6<=Reporting_Year,"Actuals","Forecast") -> Actuals | F5: =IF(F6<=Reporting_Year,"Actuals","Forecast") -> Actuals | G5: =IF(G6<=Reporting_Year,"Actuals","Forecast") -> Actuals | H5: =IF(H6<=Reporting_Year,"Actuals","Forecast") -> Actuals
D6: =RIIO_2_start_date -> 2022 | E6: =D6+1 -> 2023 | F6: =E6+1 -> 2024 | G6: =F6+1 -> 2025 | H6: =G6+1 -> 2026 | J6: ="Cumulative to "&'RFPR cover'!$C$9 -> Cumulative to 2026 | K6: RIIO-2 period
D7: =RIIO_2_start_date-1&"/"&RIGHT(RIIO_2_start_date,2) -> 2021/22 | E7: =RIIO_2_start_date&"/"&RIGHT(RIIO_2_start_date+1,2) -> 2022/23 | F7: =RIIO_2_start_date+1&"/"&RIGHT(RIIO_2_start_date+2,2) -> 2023/24 | G7: =RIIO_2_start_date+2&"/"&RIGHT(RIIO_2_start_date+3,2) -> 2024/25 | H7: =RIIO_2_start_date+3&"/"&RIGHT(RIIO_2_start_date+4,2) -> 2025/26
B9: RoRE based on Notional Gearing
B11: Allowed Equity Return | C11: % | D11: =IFERROR(Equity_Return_on_the_RAV/NPV_neutral_equity_element_of_RAV,0) -> 0.04243945 | E11: =IFERROR(Equity_Return_on_the_RAV/NPV_neutral_equity_element_of_RAV,0) -> 0.042616093 | F11: =IFERROR(Equity_Return_on_the_RAV/NPV_neutral_equity_element_of_RAV,0) -> 0.049096839 | G11: =IFERROR(Equity_Return_on_the_RAV/NPV_neutral_equity_element_of_RAV,0) -> 0.052011518 | H11: =IFERROR(Equity_Return_on_the_RAV/NPV_neutral_equity_element_of_RAV,0) -> 0.050933685 | J11: =IFERROR(AVERAGE(D69:INDEX(D69:H69,0,MATCH('RFPR cover'!$C$9,$D$6:$H$6,0)))/AVERAGE($D$96:INDEX($D$96:$H$96,0,MATCH('RFPR cover'!$C$9,$D$6:$H$6,0))),0) -> 0.047626459 | K11: =IFERROR(AVERAGE(D69:H69)/AVERAGE($D$96:$H$96),0) -> 0.047626459
B12: =B70 -> Totex outperformance | C12: % | D12: =IFERROR(Totex_outperformance/NPV_neutral_equity_element_of_RAV,0) -> 0.010918866 | E12: =IFERROR(Totex_outperformance/NPV_neutral_equity_element_of_RAV,0) -> 0.0116474 | F12: =IFERROR(Totex_outperformance/NPV_neutral_equity_element_of_RAV,0) -> 0.011439115 | G12: =IFERROR(Totex_outperformance/NPV_neutral_equity_element_of_RAV,0) -> 0.012219055 | H12: =IFERROR(Totex_outperformance/NPV_neutral_equity_element_of_RAV,0) -> 0.01167716 | J12: =IFERROR(AVERAGE(D70:INDEX(D70:H70,0,MATCH('RFPR cover'!$C$9,$D$6:$H$6,0)))/AVERAGE($D$96:INDEX($D$96:$H$96,0,MATCH('RFPR cover'!$C$9,$D$6:$H$6,0))),0) -> 0.011594398 | K12: =IFERROR(AVERAGE(D70:H70)/AVERAGE($D$96:$H$96),0) -> 0.011594398
A13: a | B13: =B71 -> Business Plan Incentive | C13: % | D13: =IFERROR(Business_Plan_Incentive/NPV_neutral_equity_element_of_RAV,0) -> -0.0020833007 | E13: =IFERROR(Business_Plan_Incentive/NPV_neutral_equity_element_of_RAV,0) -> -0.0020428439 | F13: =IFERROR(Business_Plan_Incentive/NPV_neutral_equity_element_of_RAV,0) -> -0.0019962783 | G13: =IFERROR(Business_Plan_Incentive/NPV_neutral_equity_element_of_RAV,0) -> -0.0019011225 | H13: =IFERROR(Business_Plan_Incentive/NPV_neutral_equity_element_of_RAV,0) -> -0.0017412665 | J13: =IFERROR(AVERAGE(D71:INDEX(D71:H71,0,MATCH('RFPR cover'!$C$9,$D$6:$H$6,0)))/AVERAGE($D$96:INDEX($D$96:$H$96,0,MATCH('RFPR cover'!$C$9,$D$6:$H$6,0))),0) -> -0.0019449554 | K13: =IFERROR(AVERAGE(D71:H71)/AVERAGE($D$96:$H$96),0) -> -0.0019449554
A14: b | B14: =B72 -> Energy not supplied ODI - (SpC 4.2) | C14: % | D14: =IFERROR(ODI_1/NPV_neutral_equity_element_of_RAV,0) -> 0.00013365121 | E14: =IFERROR(ODI_1/NPV_neutral_equity_element_of_RAV,0) -> 0.00015447802 | F14: =IFERROR(ODI_1/NPV_neutral_equity_element_of_RAV,0) -> 0.00015649257 | G14: =IFERROR(ODI_1/NPV_neutral_equity_element_of_RAV,0) -> -0.00021513486 | H14: =IFERROR(ODI_1/NPV_neutral_equity_element_of_RAV,0) -> 0.00010966561 | J14: =IFERROR(AVERAGE(D72:INDEX(D72:H72,0,MATCH('RFPR cover'!$C$9,$D$6:$H$6,0)))/AVERAGE($D$96:INDEX($D$96:$H$96,0,MATCH('RFPR cover'!$C$9,$D$6:$H$6,0))),0) -> 6.5343967e-05 | K14: =IFERROR(AVERAGE(D72:H72)/AVERAGE($D$96:$H$96),0) -> 6.5343967e-05
A15: c | B15: =B73 -> Insulation And Interruption Gas emissions ODI - (SpC 4.3) | C15: % | D15: =IFERROR(ODI_2/NPV_neutral_equity_element_of_RAV,0) -> 0.00023018119 | E15: =IFERROR(ODI_2/NPV_neutral_equity_element_of_RAV,0) -> 0.00017446894 | F15: =IFERROR(ODI_2/NPV_neutral_equity_element_of_RAV,0) -> -9.0557029e-05 | G15: =IFERROR(ODI_2/NPV_neutral_equity_element_of_RAV,0) -> 0.00015355565 | H15: =IFERROR(ODI_2/NPV_neutral_equity_element_of_RAV,0) -> 0.00023915714 | J15: =IFERROR(AVERAGE(D73:INDEX(D73:H73,0,MATCH('RFPR cover'!$C$9,$D$6:$H$6,0)))/AVERAGE($D$96:INDEX($D$96:$H$96,0,MATCH('RFPR cover'!$C$9,$D$6:$H$6,0))),0) -> 0.00014340095 | K15: =IFERROR(AVERAGE(D73:H73)/AVERAGE($D$96:$H$96),0) -> 0.00014340095
A16: d | B16: =B74 -> Timely Connections ODI - (SpC 4.4) | C16: % | D16: =IFERROR(ODI_3/NPV_neutral_equity_element_of_RAV,0) -> -4.2100035e-05 | E16: =IFERROR(ODI_3/NPV_neutral_equity_element_of_RAV,0) -> -2.7948971e-05 | F16: =IFERROR(ODI_3/NPV_neutral_equity_element_of_RAV,0) -> -2.7624025e-06 | G16: =IFERROR(ODI_3/NPV_neutral_equity_element_of_RAV,0) -> -1.5458338e-05 | H16: =IFERROR(ODI_3/NPV_neutral_equity_element_of_RAV,0) -> -1.2767223e-05 | J16: =IFERROR(AVERAGE(D74:INDEX(D74:H74,0,MATCH('RFPR cover'!$C$9,$D$6:$H$6,0)))/AVERAGE($D$96:INDEX($D$96:$H$96,0,MATCH('RFPR cover'!$C$9,$D$6:$H$6,0))),0) -> -1.9736172e-05 | K16: =IFERROR(AVERAGE(D74:H74)/AVERAGE($D$96:$H$96),0) -> -1.9736172e-05
A17: e | B17: =B75 -> Quality of connections satisfaction survey ODI - (SpC 4.5) | C17: % | D17: =IFERROR(ODI_4/NPV_neutral_equity_element_of_RAV,0) -> 3.7711916e-05 | E17: =IFERROR(ODI_4/NPV_neutral_equity_element_of_RAV,0) -> -0.00051387137 | F17: =IFERROR(ODI_4/NPV_neutral_equity_element_of_RAV,0) -> -0.00045868676 | G17: =IFERROR(ODI_4/NPV_neutral_equity_element_of_RAV,0) -> -0.0010775867 | H17: =IFERROR(ODI_4/NPV_neutral_equity_element_of_RAV,0) -> -0.0005532443 | J17: =IFERROR(AVERAGE(D75:INDEX(D75:H75,0,MATCH('RFPR cover'!$C$9,$D$6:$H$6,0)))/AVERAGE($D$96:INDEX($D$96:$H$96,0,MATCH('RFPR cover'!$C$9,$D$6:$H$6,0))),0) -> -0.00052426556 | K17: =IFERROR(AVERAGE(D75:H75)/AVERAGE($D$96:$H$96),0) -> -0.00052426556
A18: f | B18: =B76 -> SO-TO Optimisation ODI - (SpC 4.7) | C18: % | D18: =IFERROR(ODI_5/NPV_neutral_equity_element_of_RAV,0) -> 0.0008012695 | E18: =IFERROR(ODI_5/NPV_neutral_equity_element_of_RAV,0) -> 0.00078570917 | F18: =IFERROR(ODI_5/NPV_neutral_equity_element_of_RAV,0) -> 0.00089918961 | G18: =IFERROR(ODI_5/NPV_neutral_equity_element_of_RAV,0) -> 0.00061095838 | H18: =IFERROR(ODI_5/NPV_neutral_equity_element_of_RAV,0) -> 0.00039547068 | J18: =IFERROR(AVERAGE(D76:INDEX(D76:H76,0,MATCH('RFPR cover'!$C$9,$D$6:$H$6,0)))/AVERAGE($D$96:INDEX($D$96:$H$96,0,MATCH('RFPR cover'!$C$9,$D$6:$H$6,0))),0) -> 0.00068779366 | K18: =IFERROR(AVERAGE(D76:H76)/AVERAGE($D$96:$H$96),0) -> 0.00068779366
A19: g | B19: =B77 -> Environmental scorecard ODI - (SpC 4.6) | C19: % | D19: =IFERROR(ODI_6/NPV_neutral_equity_element_of_RAV,0) -> 8.2292884e-05 | E19: =IFERROR(ODI_6/NPV_neutral_equity_element_of_RAV,0) -> 0.00015713325 | F19: =IFERROR(ODI_6/NPV_neutral_equity_element_of_RAV,0) -> 0.00015042272 | G19: =IFERROR(ODI_6/NPV_neutral_equity_element_of_RAV,0) -> 0.00016380369 | H19: =IFERROR(ODI_6/NPV_neutral_equity_element_of_RAV,0) -> 0.0001439443 | J19: =IFERROR(AVERAGE(D77:INDEX(D77:H77,0,MATCH('RFPR cover'!$C$9,$D$6:$H$6,0)))/AVERAGE($D$96:INDEX($D$96:$H$96,0,MATCH('RFPR cover'!$C$9,$D$6:$H$6,0))),0) -> 0.00014027005 | K19: =IFERROR(AVERAGE(D77:H77)/AVERAGE($D$96:$H$96),0) -> 0.00014027005
A20: h | B20: =B78 | C20: % | D20: =IFERROR(ODI_7/NPV_neutral_equity_element_of_RAV,0) -> 0 | E20: =IFERROR(ODI_7/NPV_neutral_equity_element_of_RAV,0) -> 0 | F20: =IFERROR(ODI_7/NPV_neutral_equity_element_of_RAV,0) -> 0 | G20: =IFERROR(ODI_7/NPV_neutral_equity_element_of_RAV,0) -> 0 | H20: =IFERROR(ODI_7/NPV_neutral_equity_element_of_RAV,0) -> 0 | J20: =IFERROR(AVERAGE(D78:INDEX(D78:H78,0,MATCH('RFPR cover'!$C$9,$D$6:$H$6,0)))/AVERAGE($D$96:INDEX($D$96:$H$96,0,MATCH('RFPR cover'!$C$9,$D$6:$H$6,0))),0) -> 0 | K20: =IFERROR(AVERAGE(D78:H78)/AVERAGE($D$96:$H$96),0) -> 0
A21: i | B21: =B79 | C21: % | D21: =IFERROR(ODI_8/NPV_neutral_equity_element_of_RAV,0) -> 0 | E21: =IFERROR(ODI_8/NPV_neutral_equity_element_of_RAV,0) -> 0 | F21: =IFERROR(ODI_8/NPV_neutral_equity_element_of_RAV,0) -> 0 | G21: =IFERROR(ODI_8/NPV_neutral_equity_element_of_RAV,0) -> 0 | H21: =IFERROR(ODI_8/NPV_neutral_equity_element_of_RAV,0) -> 0 | J21: =IFERROR(AVERAGE(D79:INDEX(D79:H79,0,MATCH('RFPR cover'!$C$9,$D$6:$H$6,0)))/AVERAGE($D$96:INDEX($D$96:$H$96,0,MATCH('RFPR cover'!$C$9,$D$6:$H$6,0))),0) -> 0 | K21: =IFERROR(AVERAGE(D79:H79)/AVERAGE($D$96:$H$96),0) -> 0
A22: i | B22: =B80 -> Network innovation input for RORE | C22: % | D22: =IFERROR(ORA_1/NPV_neutral_equity_element_of_RAV,0) -> -3.7851843e-05 | E22: =IFERROR(ORA_1/NPV_neutral_equity_element_of_RAV,0) -> -8.7657924e-05 | F22: =IFERROR(ORA_1/NPV_neutral_equity_element_of_RAV,0) -> -0.00014890302 | G22: =IFERROR(ORA_1/NPV_neutral_equity_element_of_RAV,0) -> -0.00020739971 | H22: =IFERROR(ORA_1/NPV_neutral_equity_element_of_RAV,0) -> -0.00019358293 | J22: =IFERROR(AVERAGE(D80:INDEX(D80:H80,0,MATCH('RFPR cover'!$C$9,$D$6:$H$6,0)))/AVERAGE($D$96:INDEX($D$96:$H$96,0,MATCH('RFPR cover'!$C$9,$D$6:$H$6,0))),0) -> -0.00013845599 | K22: =IFERROR(AVERAGE(D80:H80)/AVERAGE($D$96:$H$96),0) -> -0.00013845599
A23: ii | B23: =B81 -> Carry-over Network innovation input for RORE | C23: % | D23: =IFERROR(ORA_2/NPV_neutral_equity_element_of_RAV,0) -> -1.1629664e-05 | E23: =IFERROR(ORA_2/NPV_neutral_equity_element_of_RAV,0) -> 0 | F23: =IFERROR(ORA_2/NPV_neutral_equity_element_of_RAV,0) -> 0 | G23: =IFERROR(ORA_2/NPV_neutral_equity_element_of_RAV,0) -> 0 | H23: =IFERROR(ORA_2/NPV_neutral_equity_element_of_RAV,0) -> 0 | J23: =IFERROR(AVERAGE(D81:INDEX(D81:H81,0,MATCH('RFPR cover'!$C$9,$D$6:$H$6,0)))/AVERAGE($D$96:INDEX($D$96:$H$96,0,MATCH('RFPR cover'!$C$9,$D$6:$H$6,0))),0) -> -2.1714751e-06 | K23: =IFERROR(AVERAGE(D81:H81)/AVERAGE($D$96:$H$96),0) -> -2.1714751e-06
A24: iii | B24: =B82 -> Strategic innovation input for RORE | C24: % | D24: =IFERROR(ORA_3/NPV_neutral_equity_element_of_RAV,0) -> 0 | E24: =IFERROR(ORA_3/NPV_neutral_equity_element_of_RAV,0) -> -1.4814861e-05 | F24: =IFERROR(ORA_3/NPV_neutral_equity_element_of_RAV,0) -> -2.6071801e-05 | G24: =IFERROR(ORA_3/NPV_neutral_equity_element_of_RAV,0) -> -9.71197e-06 | H24: =IFERROR(ORA_3/NPV_neutral_equity_element_of_RAV,0) -> -0.00019429773 | J24: =IFERROR(AVERAGE(D82:INDEX(D82:H82,0,MATCH('RFPR cover'!$C$9,$D$6:$H$6,0)))/AVERAGE($D$96:INDEX($D$96:$H$96,0,MATCH('RFPR cover'!$C$9,$D$6:$H$6,0))),0) -> -5.3293711e-05 | K24: =IFERROR(AVERAGE(D82:H82)/AVERAGE($D$96:$H$96),0) -> -5.3293711e-05
A25: iv | B25: =B83 | C25: % | D25: =IFERROR(ORA_4/NPV_neutral_equity_element_of_RAV,0) -> 0 | E25: =IFERROR(ORA_4/NPV_neutral_equity_element_of_RAV,0) -> 0 | F25: =IFERROR(ORA_4/NPV_neutral_equity_element_of_RAV,0) -> 0 | G25: =IFERROR(ORA_4/NPV_neutral_equity_element_of_RAV,0) -> 0 | H25: =IFERROR(ORA_4/NPV_neutral_equity_element_of_RAV,0) -> 0 | J25: =IFERROR(AVERAGE(D83:INDEX(D83:H83,0,MATCH('RFPR cover'!$C$9,$D$6:$H$6,0)))/AVERAGE($D$96:INDEX($D$96:$H$96,0,MATCH('RFPR cover'!$C$9,$D$6:$H$6,0))),0) -> 0 | K25: =IFERROR(AVERAGE(D83:H83)/AVERAGE($D$96:$H$96),0) -> 0
A26: v | B26: =B84 | C26: % | D26: =IFERROR(ORA_5/NPV_neutral_equity_element_of_RAV,0) -> 0 | E26: =IFERROR(ORA_5/NPV_neutral_equity_element_of_RAV,0) -> 0 | F26: =IFERROR(ORA_5/NPV_neutral_equity_element_of_RAV,0) -> 0 | G26: =IFERROR(ORA_5/NPV_neutral_equity_element_of_RAV,0) -> 0 | H26: =IFERROR(ORA_5/NPV_neutral_equity_element_of_RAV,0) -> 0 | J26: =IFERROR(AVERAGE(D84:INDEX(D84:H84,0,MATCH('RFPR cover'!$C$9,$D$6:$H$6,0)))/AVERAGE($D$96:INDEX($D$96:$H$96,0,MATCH('RFPR cover'!$C$9,$D$6:$H$6,0))),0) -> 0 | K26: =IFERROR(AVERAGE(D84:H84)/AVERAGE($D$96:$H$96),0) -> 0
A27: vi | B27: =B85 | C27: % | D27: =IFERROR(ORA_6/NPV_neutral_equity_element_of_RAV,0) -> 0 | E27: =IFERROR(ORA_6/NPV_neutral_equity_element_of_RAV,0) -> 0 | F27: =IFERROR(ORA_6/NPV_neutral_equity_element_of_RAV,0) -> 0 | G27: =IFERROR(ORA_6/NPV_neutral_equity_element_of_RAV,0) -> 0 | H27: =IFERROR(ORA_6/NPV_neutral_equity_element_of_RAV,0) -> 0 | J27: =IFERROR(AVERAGE(D85:INDEX(D85:H85,0,MATCH('RFPR cover'!$C$9,$D$6:$H$6,0)))/AVERAGE($D$96:INDEX($D$96:$H$96,0,MATCH('RFPR cover'!$C$9,$D$6:$H$6,0))),0) -> 0 | K27: =IFERROR(AVERAGE(D85:H85)/AVERAGE($D$96:$H$96),0) -> 0
A28: vii | B28: =B86 | C28: % | D28: =IFERROR(ORA_7/NPV_neutral_equity_element_of_RAV,0) -> 0 | E28: =IFERROR(ORA_7/NPV_neutral_equity_element_of_RAV,0) -> 0 | F28: =IFERROR(ORA_7/NPV_neutral_equity_element_of_RAV,0) -> 0 | G28: =IFERROR(ORA_7/NPV_neutral_equity_element_of_RAV,0) -> 0 | H28: =IFERROR(ORA_7/NPV_neutral_equity_element_of_RAV,0) -> 0 | J28: =IFERROR(AVERAGE(D86:INDEX(D86:H86,0,MATCH('RFPR cover'!$C$9,$D$6:$H$6,0)))/AVERAGE($D$96:INDEX($D$96:$H$96,0,MATCH('RFPR cover'!$C$9,$D$6:$H$6,0))),0) -> 0 | K28: =IFERROR(AVERAGE(D86:H86)/AVERAGE($D$96:$H$96),0) -> 0
A29: viii | B29: =B87 | C29: % | D29: =IFERROR(ORA_8/NPV_neutral_equity_element_of_RAV,0) -> 0 | E29: =IFERROR(ORA_8/NPV_neutral_equity_element_of_RAV,0) -> 0 | F29: =IFERROR(ORA_8/NPV_neutral_equity_element_of_RAV,0) -> 0 | G29: =IFERROR(ORA_8/NPV_neutral_equity_element_of_RAV,0) -> 0 | H29: =IFERROR(ORA_8/NPV_neutral_equity_element_of_RAV,0) -> 0 | J29: =IFERROR(AVERAGE(D87:INDEX(D87:H87,0,MATCH('RFPR cover'!$C$9,$D$6:$H$6,0)))/AVERAGE($D$96:INDEX($D$96:$H$96,0,MATCH('RFPR cover'!$C$9,$D$6:$H$6,0))),0) -> 0 | K29: =IFERROR(AVERAGE(D87:H87)/AVERAGE($D$96:$H$96),0) -> 0
B30: =B88 -> Penalties and fines (Other Activities) | C30: % | D30: =IFERROR(Penalties_and_fines/NPV_neutral_equity_element_of_RAV,0) -> 0 | E30: =IFERROR(Penalties_and_fines/NPV_neutral_equity_element_of_RAV,0) -> 0 | F30: =IFERROR(Penalties_and_fines/NPV_neutral_equity_element_of_RAV,0) -> 0 | G30: =IFERROR(Penalties_and_fines/NPV_neutral_equity_element_of_RAV,0) -> 0 | H30: =IFERROR(Penalties_and_fines/NPV_neutral_equity_element_of_RAV,0) -> 0 | J30: =IFERROR(AVERAGE(D88:INDEX(D88:H88,0,MATCH('RFPR cover'!$C$9,$D$6:$H$6,0)))/AVERAGE($D$96:INDEX($D$96:$H$96,0,MATCH('RFPR cover'!$C$9,$D$6:$H$6,0))),0) -> 0 | K30: =IFERROR(AVERAGE(D88:H88)/AVERAGE($D$96:$H$96),0) -> 0
B31: =B89 -> RoRE - Operational performance | C31: % | D31: =SUM(D11:D30) -> 0.05246854 | E31: =SUM(E11:E30) -> 0.052848145 | F31: =SUM(F11:F30) -> 0.0590188 | G31: =SUM(G11:G30) -> 0.061732476 | H31: =SUM(H11:H30) -> 0.060803924 | J31: =SUM(J11:J30) -> 0.057574788 | K31: =SUM(K11:K30) -> 0.057574788
B32: =B90 -> Debt performance - at notional gearing | C32: % | D32: =IFERROR(Debt_performance___at_notional_gearing/NPV_neutral_equity_element_of_RAV,0) -> 0.030754841 | E32: =IFERROR(Debt_performance___at_notional_gearing/NPV_neutral_equity_element_of_RAV,0) -> 0.057497262 | F32: =IFERROR(Debt_performance___at_notional_gearing/NPV_neutral_equity_element_of_RAV,0) -> 0.041539907 | G32: =IFERROR(Debt_performance___at_notional_gearing/NPV_neutral_equity_element_of_RAV,0) -> 0.019324431 | H32: =IFERROR(Debt_performance___at_notional_gearing/NPV_neutral_equity_element_of_RAV,0) -> 0.026249352 | J32: =IFERROR(AVERAGE(D90:INDEX(D90:H90,0,MATCH('RFPR cover'!$C$9,$D$6:$H$6,0)))/AVERAGE($D$96:INDEX($D$96:$H$96,0,MATCH('RFPR cover'!$C$9,$D$6:$H$6,0))),0) -> 0.034603299 | K32: =IFERROR(AVERAGE(D90:H90)/AVERAGE($D$96:$H$96),0) -> 0.034603299
B33: =B92 -> Tax performance - at notional gearing | C33: % | D33: =IFERROR(Tax_performance___at_notional_gearing/NPV_neutral_equity_element_of_RAV,0) -> -0.0006059683 | E33: =IFERROR(Tax_performance___at_notional_gearing/NPV_neutral_equity_element_of_RAV,0) -> 0.0024065649 | F33: =IFERROR(Tax_performance___at_notional_gearing/NPV_neutral_equity_element_of_RAV,0) -> -0.0050983895 | G33: =IFERROR(Tax_performance___at_notional_gearing/NPV_neutral_equity_element_of_RAV,0) -> 0.00095037047 | H33: =IFERROR(Tax_performance___at_notional_gearing/NPV_neutral_equity_element_of_RAV,0) -> 0.00053383264 | J33: =IFERROR(AVERAGE(D92:INDEX(D92:H92,0,MATCH('RFPR cover'!$C$9,$D$6:$H$6,0)))/AVERAGE($D$96:INDEX($D$96:$H$96,0,MATCH('RFPR cover'!$C$9,$D$6:$H$6,0))),0) -> -0.00033464644 | K33: =IFERROR(AVERAGE(D92:H92)/AVERAGE($D$96:$H$96),0) -> -0.00033464644
B34: =B94 -> RoRE - including financing and tax | C34: % | D34: =SUM(D31:D33) -> 0.082617413 | E34: =SUM(E31:E33) -> 0.11275197 | F34: =SUM(F31:F33) -> 0.095460318 | G34: =SUM(G31:G33) -> 0.082007278 | H34: =SUM(H31:H33) -> 0.087587108 | J34: =SUM(J31:J33) -> 0.09184344 | K34: =SUM(K31:K33) -> 0.09184344
B38: RoRE based on Actual Gearing
B40: Allowed Equity Return | C40: % | D40: =IFERROR(Equity_Return_on_the_RAV/Equity_RAV_based_on_actual_gearing,0) -> 0.040780788 | E40: =IFERROR(Equity_Return_on_the_RAV/Equity_RAV_based_on_actual_gearing,0) -> 0.038566641 | F40: =IFERROR(Equity_Return_on_the_RAV/Equity_RAV_based_on_actual_gearing,0) -> 0.043505936 | G40: =IFERROR(Equity_Return_on_the_RAV/Equity_RAV_based_on_actual_gearing,0) -> 0.046149245 | H40: =IFERROR(Equity_Return_on_the_RAV/Equity_RAV_based_on_actual_gearing,0) -> 0.046859301 | J40: =IFERROR(AVERAGE(D69:INDEX(D69:H69,0,MATCH('RFPR cover'!$C$9,$D$6:$H$6,0)))/AVERAGE($D$97:INDEX($D$97:$H$97,0,MATCH('RFPR cover'!$C$9,$D$6:$H$6,0))),0) -> 0.043373891 | K40: =IFERROR(AVERAGE(D69:H69)/AVERAGE($D$97:$H$97),0) -> 0.043373891
B41: =B70 -> Totex outperformance | C41: % | D41: =IFERROR(Totex_outperformance/Equity_RAV_based_on_actual_gearing,0) -> 0.010492124 | E41: =IFERROR(Totex_outperformance/Equity_RAV_based_on_actual_gearing,0) -> 0.010540644 | F41: =IFERROR(Totex_outperformance/Equity_RAV_based_on_actual_gearing,0) -> 0.010136486 | G41: =IFERROR(Totex_outperformance/Equity_RAV_based_on_actual_gearing,0) -> 0.010841832 | H41: =IFERROR(Totex_outperformance/Equity_RAV_based_on_actual_gearing,0) -> 0.010743058 | J41: =IFERROR(AVERAGE(D70:INDEX(D70:H70,0,MATCH('RFPR cover'!$C$9,$D$6:$H$6,0)))/AVERAGE($D$97:INDEX($D$97:$H$97,0,MATCH('RFPR cover'!$C$9,$D$6:$H$6,0))),0) -> 0.010559134 | K41: =IFERROR(AVERAGE(D70:H70)/AVERAGE($D$97:$H$97),0) -> 0.010559134
A42: a | B42: =B71 -> Business Plan Incentive | C42: % | D42: =IFERROR(Business_Plan_Incentive/Equity_RAV_based_on_actual_gearing,0) -> -0.002001879 | E42: =IFERROR(Business_Plan_Incentive/Equity_RAV_based_on_actual_gearing,0) -> -0.0018487294 | F42: =IFERROR(Business_Plan_Incentive/Equity_RAV_based_on_actual_gearing,0) -> -0.0017689521 | G42: =IFERROR(Business_Plan_Incentive/Equity_RAV_based_on_actual_gearing,0) -> -0.001686845 | H42: =IFERROR(Business_Plan_Incentive/Equity_RAV_based_on_actual_gearing,0) -> -0.0016019758 | J42: =IFERROR(AVERAGE(D71:INDEX(D71:H71,0,MATCH('RFPR cover'!$C$9,$D$6:$H$6,0)))/AVERAGE($D$97:INDEX($D$97:$H$97,0,MATCH('RFPR cover'!$C$9,$D$6:$H$6,0))),0) -> -0.0017712903 | K42: =IFERROR(AVERAGE(D71:H71)/AVERAGE($D$97:$H$97),0) -> -0.0017712903
A43: b | B43: =B72 -> Energy not supplied ODI - (SpC 4.2) | C43: % | D43: =IFERROR(ODI_1/Equity_RAV_based_on_actual_gearing,0) -> 0.00012842771 | E43: =IFERROR(ODI_1/Equity_RAV_based_on_actual_gearing,0) -> 0.00013979926 | F43: =IFERROR(ODI_1/Equity_RAV_based_on_actual_gearing,0) -> 0.00013867198 | G43: =IFERROR(ODI_1/Equity_RAV_based_on_actual_gearing,0) -> -0.00019088678 | H43: =IFERROR(ODI_1/Equity_RAV_based_on_actual_gearing,0) -> 0.00010089303 | J43: =IFERROR(AVERAGE(D72:INDEX(D72:H72,0,MATCH('RFPR cover'!$C$9,$D$6:$H$6,0)))/AVERAGE($D$97:INDEX($D$97:$H$97,0,MATCH('RFPR cover'!$C$9,$D$6:$H$6,0))),0) -> 5.9509402e-05 | K43: =IFERROR(AVERAGE(D72:H72)/AVERAGE($D$97:$H$97),0) -> 5.9509402e-05
A44: c | B44: =B73 -> Insulation And Interruption Gas emissions ODI - (SpC 4.3) | C44: % | D44: =IFERROR(ODI_2/Equity_RAV_based_on_actual_gearing,0) -> 0.00022118502 | E44: =IFERROR(ODI_2/Equity_RAV_based_on_actual_gearing,0) -> 0.00015789061 | F44: =IFERROR(ODI_2/Equity_RAV_based_on_actual_gearing,0) -> -8.0244845e-05 | G44: =IFERROR(ODI_2/Equity_RAV_based_on_actual_gearing,0) -> 0.00013624823 | H44: =IFERROR(ODI_2/Equity_RAV_based_on_actual_gearing,0) -> 0.00022002603 | J44: =IFERROR(AVERAGE(D73:INDEX(D73:H73,0,MATCH('RFPR cover'!$C$9,$D$6:$H$6,0)))/AVERAGE($D$97:INDEX($D$97:$H$97,0,MATCH('RFPR cover'!$C$9,$D$6:$H$6,0))),0) -> 0.00013059667 | K44: =IFERROR(AVERAGE(D73:H73)/AVERAGE($D$97:$H$97),0) -> 0.00013059667
A45: d | B45: =B74 -> Timely Connections ODI - (SpC 4.4) | C45: % | D45: =IFERROR(ODI_3/Equity_RAV_based_on_actual_gearing,0) -> -4.0454638e-05 | E45: =IFERROR(ODI_3/Equity_RAV_based_on_actual_gearing,0) -> -2.5293213e-05 | F45: =IFERROR(ODI_3/Equity_RAV_based_on_actual_gearing,0) -> -2.4478338e-06 | G45: =IFERROR(ODI_3/Equity_RAV_based_on_actual_gearing,0) -> -1.3716013e-05 | H45: =IFERROR(ODI_3/Equity_RAV_based_on_actual_gearing,0) -> -1.1745923e-05 | J45: =IFERROR(AVERAGE(D74:INDEX(D74:H74,0,MATCH('RFPR cover'!$C$9,$D$6:$H$6,0)))/AVERAGE($D$97:INDEX($D$97:$H$97,0,MATCH('RFPR cover'!$C$9,$D$6:$H$6,0))),0) -> -1.7973929e-05 | K45: =IFERROR(AVERAGE(D74:H74)/AVERAGE($D$97:$H$97),0) -> -1.7973929e-05
A46: e | B46: =B75 -> Quality of connections satisfaction survey ODI - (SpC 4.5) | C46: % | D46: =IFERROR(ODI_4/Equity_RAV_based_on_actual_gearing,0) -> 3.623802e-05 | E46: =IFERROR(ODI_4/Equity_RAV_based_on_actual_gearing,0) -> -0.00046504246 | F46: =IFERROR(ODI_4/Equity_RAV_based_on_actual_gearing,0) -> -0.0004064538 | G46: =IFERROR(ODI_4/Equity_RAV_based_on_actual_gearing,0) -> -0.00095613078 | H46: =IFERROR(ODI_4/Equity_RAV_based_on_actual_gearing,0) -> -0.00050898813 | J46: =IFERROR(AVERAGE(D75:INDEX(D75:H75,0,MATCH('RFPR cover'!$C$9,$D$6:$H$6,0)))/AVERAGE($D$97:INDEX($D$97:$H$97,0,MATCH('RFPR cover'!$C$9,$D$6:$H$6,0))),0) -> -0.00047745387 | K46: =IFERROR(AVERAGE(D75:H75)/AVERAGE($D$97:$H$97),0) -> -0.00047745387
A47: f | B47: =B76 -> SO-TO Optimisation ODI - (SpC 4.7) | C47: % | D47: =IFERROR(ODI_5/Equity_RAV_based_on_actual_gearing,0) -> 0.00076995346 | E47: =IFERROR(ODI_5/Equity_RAV_based_on_actual_gearing,0) -> 0.00071104978 | F47: =IFERROR(ODI_5/Equity_RAV_based_on_actual_gearing,0) -> 0.00079679438 | G47: =IFERROR(ODI_5/Equity_RAV_based_on_actual_gearing,0) -> 0.00054209661 | H47: =IFERROR(ODI_5/Equity_RAV_based_on_actual_gearing,0) -> 0.00036383544 | J47: =IFERROR(AVERAGE(D76:INDEX(D76:H76,0,MATCH('RFPR cover'!$C$9,$D$6:$H$6,0)))/AVERAGE($D$97:INDEX($D$97:$H$97,0,MATCH('RFPR cover'!$C$9,$D$6:$H$6,0))),0) -> 0.00062638054 | K47: =IFERROR(AVERAGE(D76:H76)/AVERAGE($D$97:$H$97),0) -> 0.00062638054
...

Sheet R2 - Rec to Revenue and Profit
A1: R2 - Reconciliation to Revenue and Profit
A2: =Licensee -> NGET (TO)
A3: =Reporting_Year -> 2026
E5: =IF(E6<=Reporting_Year,"Actuals","Forecast") -> Actuals | F5: =IF(F6<=Reporting_Year,"Actuals","Forecast") -> Actuals | G5: =IF(G6<=Reporting_Year,"Actuals","Forecast") -> Actuals | H5: =IF(H6<=Reporting_Year,"Actuals","Forecast") -> Actuals | I5: =IF(I6<=Reporting_Year,"Actuals","Forecast") -> Actuals
E6: =RIIO_2_start_date -> 2022 | F6: =E6+1 -> 2023 | G6: =F6+1 -> 2024 | H6: =G6+1 -> 2025 | I6: =H6+1 -> 2026
E7: =RIIO_2_start_date-1&"/"&RIGHT(RIIO_2_start_date,2) -> 2021/22 | F7: =RIIO_2_start_date&"/"&RIGHT(RIIO_2_start_date+1,2) -> 2022/23 | G7: =RIIO_2_start_date+1&"/"&RIGHT(RIIO_2_start_date+2,2) -> 2023/24 | H7: =RIIO_2_start_date+2&"/"&RIGHT(RIIO_2_start_date+3,2) -> 2024/25 | I7: =RIIO_2_start_date+3&"/"&RIGHT(RIIO_2_start_date+4,2) -> 2025/26
B9: Reconciliation: Regulated Network Revenue to Accounts
B11: Allowed Revenue - per latest published PCFM
B13: Calculated revenue (as published) | C13: =IF(Licensee="NGGT (SO)","SORt* x PIt* / PI2018/19",IF(Sector="ED2","Rt* x PIt* / PI2020/21","Rt* x PIt* / PI2018/19")) -> Rt* x PIt* / PI2018/19 | D13: £m nominal | E13: 1808.399 | F13: 1872.7854 | G13: 2288.3358 | H13: 2310.6742 | I13: 2539.25
B14: AIP adjustment term (as published)- not applicable to ED sector | C14: =IF(Licensee="NGGT (SO)","SOADJt*","ADJt*") -> ADJt* | D14: £m nominal | E14: 0 | F14: 102.96049 | G14: 56.05933 | H14: -216.14248 | I14: -69.174117
B15: =IF(Sector="ED2","Calculated revenue","Adjusted revenue (as published)") -> Adjusted revenue (as published) | C15: =IF(Licensee="NGGT (SO)","SOADJRt*",IF(Sector="ED2"," ","ADJRt*")) -> ADJRt* | D15: £m nominal | E15: =SUM(E13:E14) -> 1808.399 | F15: =SUM(F13:F14) -> 1975.7459 | G15: =SUM(G13:G14) -> 2344.3951 | H15: =SUM(H13:H14) -> 2094.5317 | I15: =SUM(I13:I14) -> 2470.0759
B16: Legacy Allowed Revenue | C16: =IF(OR(Licensee="ESO",Licensee="NGGT (SO)"),"SOLARt","LARt") -> LARt | D16: £m nominal | E16: -43.756082 | F16: -173.189 | G16: -57.100035 | H16: -71.260636 | I16: -63.499394
B17: K Correction Factor | C17: =IF(Licensee="NGGT (SO)","SOKt","Kt") -> Kt | D17: £m nominal | E17: -15.416465 | F17: -39.140783 | G17: 75.450259 | H17: -21.632113 | I17: -27.487451
B18: Forecasting penalty (ED only) | C18: FPt | D18: £m nominal | E18: 0 | F18: 0 | G18: 0 | H18: 0 | I18: 0
B19: Allowed Network Revenue | C19: =IF(Licensee="ESO","SOIARt",IF(Licensee="NGGT (SO)","SOARt","ARt")) -> ARt | D19: £m nominal | E19: =SUM(E15:E18) -> 1749.2265 | F19: =SUM(F15:F18) -> 1763.4161 | G19: =SUM(G15:G18) -> 2362.7453 | H19: =SUM(H15:H18) -> 2001.639 | I19: =SUM(I15:I18) -> 2379.0891
B21: (Under) / Over recovery | D21: £m nominal | E21: =IF(ISBLANK(E25),0,E25-E19) -> 38.641417 | F21: =IF(ISBLANK(F25),0,F25-F19) -> -72.960057 | G21: =IF(ISBLANK(G25),0,G25-G19) -> 20.384355 | H21: =IF(ISBLANK(H25),0,H25-H19) -> 25.919701 | I21: =IF(ISBLANK(I25),0,I25-I19) -> 6.6245398
B25: Collected Regulated Network Revenue (per latest PCFM) | C25: RRt | D25: £m nominal | E25: 1787.8679 | F25: 1690.456 | G25: 2383.1297 | H25: 2027.5587 | I25: 2385.7136
B27: Other Turnover Items
B28: Strategic Innovation Fund (SIF) payments received from TO | D28: £m nominal | E28: 0 | F28: 0 | G28: 0 | H28: 0 | I28: 0
B29: Legacy Metering Equipment charges | D29: £m nominal | E29: 0 | F29: 0 | G29: 0 | H29: 0 | I29: 0
B30: Directly Remunerated Services revenue | D30: £m nominal | E30: 188.89031 | F30: 178.68993 | G30: 214.93779 | H30: 220.65317 | I30: 224.95204
B31: Network Asset Secondary Deliverables incentive/penalty | D31: £m nominal | E31: 0 | F31: 0 | G31: 0 | H31: 0 | I31: 0
B32: Charging outside the Distribution Services Area (Out of Area Charges) | D32: £m nominal | E32: 0 | F32: 0 | G32: 0 | H32: 0 | I32: 0
B33: De Minimis Business of the licensee | D33: £m nominal | E33: 15.11218 | F33: 17.695826 | G33: 15.622014 | H33: 15.46581 | I33: 56.440407
B34: Other consented activities | D34: £m nominal | E34: 19.829861 | F34: 48.237563 | G34: 108.09379 | H34: 331.77776 | I34: 216.37239
B35: Data Services revenue | D35: £m nominal | E35: 0 | F35: 0 | G35: 0 | H35: 0 | I35: 0
B36: [Input description, add additional rows as required] | D36: £m nominal | E36: 0 | F36: 0 | G36: 0 | H36: 0 | I36: 0
B37: Total Other Turnover Items | D37: £m nominal | E37: =SUM(E28:E36) -> 223.83235 | F37: =SUM(F28:F36) -> 244.62331 | G37: =SUM(G28:G36) -> 338.65359 | H37: =SUM(H28:H36) -> 567.89675 | I37: =SUM(I28:I36) -> 497.76484
B39: Other adjustments - please list
B40: Deeside & RICA NIC | D40: £m nominal | E40: 10.86032 | F40: 0 | G40: 0 | H40: 0 | I40: 0
B41: NG ETO adjustment (Capital contributions, Asset usage) | D41: £m nominal | E41: 10.078865 | F41: 12.560792 | G41: 13.324924 | H41: 22.064909 | I41: 12.96206
B42: BritNed Recharges | D42: £m nominal | E42: 1.8994632 | F42: 2.6434342 | G42: 0 | H42: 0 | I42: 0
B43: Western Link LD | D43: £m nominal | E43: 0.69026925 | F43: 2.8759512 | G43: 0 | H43: 0 | I43: 0
B44: Other | D44: £m nominal | E44: 1.2276197 | F44: 2.608627 | G44: -1.8151306 | H44: 0.66457572 | I44: 0.27182907
B45: National Gas Transmission Transitional Service Agreements | D45: £m nominal | E45: 0 | F45: 28.084505 | G45: 0 | H45: 0 | I45: -11.36267
B46: Property Disposals | D46: £m nominal | E46: 0 | F46: 1.3831248 | G46: 0.39790638 | H46: -0.00902032 | I46: 0
B47: Projects that moved from OpEx Customer Funded into CapEx Customer Funded | D47: £m nominal | E47: 0 | F47: 2.0224021 | G47: 1.0823022 | H47: 0.95105835 | I47: -4.0422196
B48: De Minimis Business of the license adjustment | D48: £m nominal | E48: 0 | F48: 0 | G48: 0.12672143 | H48: 0 | I48: -23.16
B49: Other consented activities adjustment | D49: £m nominal | E49: 0 | F49: 0 | G49: 0 | H49: 0 | I49: 38.54
B50: [Input description] | D50: £m nominal | E50: 0 | F50: 0 | G50: 0 | H50: 0 | I50: 0
...

Sheet R3 - Totex - Reconciliation
A1: R3 - Totex & Reconciliation
A2: =Licensee -> NGET (TO)
A3: =Reporting_Year -> 2026
D5: =IF(D6<=Reporting_Year,"Actuals","Forecast") -> Actuals | E5: =IF(E6<=Reporting_Year,"Actuals","Forecast") -> Actuals | F5: =IF(F6<=Reporting_Year,"Actuals","Forecast") -> Actuals | G5: =IF(G6<=Reporting_Year,"Actuals","Forecast") -> Actuals | H5: =IF(H6<=Reporting_Year,"Actuals","Forecast") -> Actuals
D6: ='RFPR cover'!$C$6 -> 2022 | E6: =D6+1 -> 2023 | F6: =E6+1 -> 2024 | G6: =F6+1 -> 2025 | H6: =G6+1 -> 2026 | I6: ="Cumulative to "&'RFPR cover'!$C$9 -> Cumulative to 2026 | J6: RIIO-2 period
D7: =RIIO_2_start_date-1&"/"&RIGHT(RIIO_2_start_date,2) -> 2021/22 | E7: =RIIO_2_start_date&"/"&RIGHT(RIIO_2_start_date+1,2) -> 2022/23 | F7: =RIIO_2_start_date+1&"/"&RIGHT(RIIO_2_start_date+2,2) -> 2023/24 | G7: =RIIO_2_start_date+2&"/"&RIGHT(RIIO_2_start_date+3,2) -> 2024/25 | H7: =RIIO_2_start_date+3&"/"&RIGHT(RIIO_2_start_date+4,2) -> 2025/26
B8: Totex per the latest PCFM
B9: In this section, rows 13-99 do not apply to ESO
B11: =IF(Sector="GD2","Capitalisation 1 totex (excluding repex)","Capitalisation 1 totex") -> Capitalisation 1 totex
B13: Latest Totex actuals/forecast | C13: =Data!$C$9 -> £m 18/19 | D13: 1042.9806 | E13: 978.92992 | F13: 1007.1061 | G13: 1009.6891 | H13: 1018.2998 | I13: =SUM(D13:INDEX(D13:H13,0,MATCH('RFPR cover'!$C$9,$D$6:$H$6,0))) -> 5057.0054 | J13: =SUM(D13:H13) -> 5057.0054
B14: Totex allowance | C14: =Data!$C$9 -> £m 18/19 | D14: 1650.6231 | E14: 1446.2524 | F14: 1156.5193 | G14: 1069.9616 | H14: 993.86074 | I14: =SUM(D14:INDEX(D14:H14,0,MATCH('RFPR cover'!$C$9,$D$6:$H$6,0))) -> 6317.2172 | J14: =SUM(D14:H14) -> 6317.2172
B15: Totex out(under)performance | C15: =Data!$C$9 -> £m 18/19 | D15: =D14-D13 -> 607.64253 | E15: =E14-E13 -> 467.3225 | F15: =F14-F13 -> 149.41322 | G15: =G14-G13 -> 60.272543 | H15: =H14-H13 -> -24.439029 | I15: =I14-I13 -> 1260.2118 | J15: =J14-J13 -> 1260.2118
B17: Funding Adjustment Rate (often referred to as 'sharing factor') | C17: % | D17: =INDEX(Data!$C$63:$C$91,MATCH('RFPR cover'!$C$7,Data!$B$63:$B$91,0),0) -> 0.67 | E17: =INDEX(Data!$C$63:$C$91,MATCH('RFPR cover'!$C$7,Data!$B$63:$B$91,0),0) -> 0.67 | F17: =INDEX(Data!$C$63:$C$91,MATCH('RFPR cover'!$C$7,Data!$B$63:$B$91,0),0) -> 0.67 | G17: =INDEX(Data!$C$63:$C$91,MATCH('RFPR cover'!$C$7,Data!$B$63:$B$91,0),0) -> 0.67 | H17: =INDEX(Data!$C$63:$C$91,MATCH('RFPR cover'!$C$7,Data!$B$63:$B$91,0),0) -> 0.67
B19: Customer share of out(under) performance | C19: =Data!$C$9 -> £m 18/19 | D19: =D15*D17 -> 407.1205 | E19: =E15*E17 -> 313.10608 | F19: =F15*F17 -> 100.10686 | G19: =G15*G17 -> 40.382604 | H19: =H15*H17 -> -16.374149 | I19: =SUM(D19:INDEX(D19:H19,0,MATCH('RFPR cover'!$C$9,$D$6:$H$6,0))) -> 844.34188 | J19: =SUM(D19:H19) -> 844.34188
B20: NWO share of performance | C20: =Data!$C$9 -> £m 18/19 | D20: =D15*(1-D17) -> 200.52204 | E20: =E15*(1-E17) -> 154.21643 | F20: =F15*(1-F17) -> 49.306362 | G20: =G15*(1-G17) -> 19.889939 | H20: =H15*(1-H17) -> -8.0648795 | I20: =SUM(D20:INDEX(D20:H20,0,MATCH('RFPR cover'!$C$9,$D$6:$H$6,0))) -> 415.86988 | J20: =SUM(D20:H20) -> 415.86988
B22: Enduring Value adjustments to Totex performance
B23: T1+2 Deferral | C23: =Data!$C$9 -> £m 18/19 | D23: 65.304844 | E23: 145.06563 | F23: 10.469946 | G23: 40.537805 | H23: 8.1124584 | I23: =SUM(D23:INDEX(D23:H23,0,MATCH('RFPR cover'!$C$9,$D$6:$H$6,0))) -> 269.49069 | J23: =SUM(D23:H23) -> 269.49069
B24: T1 Non Load | C24: =Data!$C$9 -> £m 18/19 | D24: 223.674 | E24: 92.227924 | F24: 28.827056 | G24: 19.586655 | H24: 12.321455 | I24: =SUM(D24:INDEX(D24:H24,0,MATCH('RFPR cover'!$C$9,$D$6:$H$6,0))) -> 376.63709 | J24: =SUM(D24:H24) -> 376.63709
B25: ISS Deferral | C25: =Data!$C$9 -> £m 18/19 | D25: 31.534032 | E25: 12.775935 | F25: -1.2317571 | G25: 2.9369701 | H25: 0 | I25: =SUM(D25:INDEX(D25:H25,0,MATCH('RFPR cover'!$C$9,$D$6:$H$6,0))) -> 46.01518 | J25: =SUM(D25:H25) -> 46.01518
B26: T1/T2 Offset | C26: =Data!$C$9 -> £m 18/19 | D26: 15.688 | E26: 15.688 | F26: 15.688 | G26: 15.688 | H26: 15.688 | I26: =SUM(D26:INDEX(D26:H26,0,MATCH('RFPR cover'!$C$9,$D$6:$H$6,0))) -> 78.44 | J26: =SUM(D26:H26) -> 78.44
B27: Pre-Con Adjustment + Easements | C27: =Data!$C$9 -> £m 18/19 | D27: -42.933374 | E27: -21.686456 | F27: -17.932319 | G27: -19.578416 | H27: -90.082373 | I27: =SUM(D27:INDEX(D27:H27,0,MATCH('RFPR cover'!$C$9,$D$6:$H$6,0))) -> -192.21294 | J27: =SUM(D27:H27) -> -192.21294
B28: Bridging Allowance Adjustment | C28: =Data!$C$9 -> £m 18/19 | D28: 1.5206248 | E28: -8.7348547 | F28: -23.053678 | G28: -106.67099 | H28: -111.60737 | I28: =SUM(D28:INDEX(D28:H28,0,MATCH('RFPR cover'!$C$9,$D$6:$H$6,0))) -> -248.54626 | J28: =SUM(D28:H28) -> -248.54626
B29: PCD Adjustment | C29: =Data!$C$9 -> £m 18/19 | D29: -97.415604 | E29: -111.11106 | F29: -112.1965 | G29: -87.228656 | H29: -70.494976 | I29: =SUM(D29:INDEX(D29:H29,0,MATCH('RFPR cover'!$C$9,$D$6:$H$6,0))) -> -478.4468 | J29: =SUM(D29:H29) -> -478.4468
B30: De Minimis | C30: =Data!$C$9 -> £m 18/19 | D30: 0 | E30: 0 | F30: 0 | G30: 0 | H30: -11.36267 | I30: =SUM(D30:INDEX(D30:H30,0,MATCH('RFPR cover'!$C$9,$D$6:$H$6,0))) -> -11.36267 | J30: =SUM(D30:H30) -> -11.36267
B31: Phasing Adjustment | C31: =Data!$C$9 -> £m 18/19 | D31: -350 | E31: -245 | F31: -70 | G31: 280 | H31: 385 | I31: =SUM(D31:INDEX(D31:H31,0,MATCH('RFPR cover'!$C$9,$D$6:$H$6,0))) -> 0 | J31: =SUM(D31:H31) -> 0
B32: Total enduring value adjustments | C32: =Data!$C$9 -> £m 18/19 | D32: =SUM(D23:D31) -> -152.62747 | E32: =SUM(E23:E31) -> -120.77488 | F32: =SUM(F23:F31) -> -169.42925 | G32: =SUM(G23:G31) -> 145.27137 | H32: =SUM(H23:H31) -> 137.57452 | I32: =SUM(D32:INDEX(D32:H32,0,MATCH('RFPR cover'!$C$9,$D$6:$H$6,0))) -> -159.9857 | J32: =SUM(D32:H32) -> -159.9857
B34: Enduring Value adjustments (UIOLI)
B35: [Cross Price Control] | C35: =Data!$C$9 -> £m 18/19 | D35: 0 | E35: 0 | F35: 0 | G35: 0 | H35: 0 | I35: =SUM(D35:INDEX(D35:H35,0,MATCH('RFPR cover'!$C$9,$D$6:$H$6,0))) -> 0 | J35: =SUM(D35:H35) -> 0
B36: [other Enduring Value adjustment] | C36: =Data!$C$9 -> £m 18/19 | D36: 0 | E36: 0 | F36: 0 | G36: 0 | H36: 0 | I36: =SUM(D36:INDEX(D36:H36,0,MATCH('RFPR cover'!$C$9,$D$6:$H$6,0))) -> 0 | J36: =SUM(D36:H36) -> 0
B37: Total enduring value adjustments | C37: =Data!$C$9 -> £m 18/19 | D37: =SUM(D35:D36) -> 0 | E37: =SUM(E35:E36) -> 0 | F37: =SUM(F35:F36) -> 0 | G37: =SUM(G35:G36) -> 0 | H37: =SUM(H35:H36) -> 0 | I37: =SUM(D37:INDEX(D37:H37,0,MATCH('RFPR cover'!$C$9,$D$6:$H$6,0))) -> 0 | J37: =SUM(D37:H37) -> 0
B39: Enduring Value: Customer share of performance | C39: =Data!$C$9 -> £m 18/19 | D39: =D32*D17 -> -102.26041 | E39: =E32*E17 -> -80.91917 | F39: =F32*F17 -> -113.5176 | G39: =G32*G17 -> 97.33182 | H39: =H32*H17 -> 92.174932 | I39: =SUM(D39:INDEX(D39:H39,0,MATCH('RFPR cover'!$C$9,$D$6:$H$6,0))) -> -107.19042 | J39: =SUM(D39:H39) -> -107.19042
B40: Enduring Value: NWO share of performance | C40: =Data!$C$9 -> £m 18/19 | D40: =D32*(1-D17)+D37 -> -50.367066 | E40: =E32*(1-E17)+E37 -> -39.855711 | F40: =F32*(1-F17)+F37 -> -55.911652 | G40: =G32*(1-G17)+G37 -> 47.939553 | H40: =H32*(1-H17)+H37 -> 45.399593 | I40: =SUM(D40:INDEX(D40:H40,0,MATCH('RFPR cover'!$C$9,$D$6:$H$6,0))) -> -52.795282 | J40: =SUM(D40:H40) -> -52.795282
B42: Total out(under) performance (including enduring value adjustments)
B43: Customer share of out(under) performance | C43: =Data!$C$9 -> £m 18/19 | D43: =D19+D39 -> 304.86009 | E43: =E19+E39 -> 232.18691 | F43: =F19+F39 -> -13.410742 | G43: =G19+G39 -> 137.71442 | H43: =H19+H39 -> 75.800782 | I43: =SUM(D43:INDEX(D43:H43,0,MATCH('RFPR cover'!$C$9,$D$6:$H$6,0))) -> 737.15146 | J43: =SUM(D43:H43) -> 737.15146
B44: NWO share of performance | C44: =Data!$C$9 -> £m 18/19 | D44: =D20+D40 -> 150.15497 | E44: =E20+E40 -> 114.36072 | F44: =F20+F40 -> -6.6052907 | G44: =G20+G40 -> 67.829492 | H44: =H20+H40 -> 37.334714 | I44: =SUM(D44:INDEX(D44:H44,0,MATCH('RFPR cover'!$C$9,$D$6:$H$6,0))) -> 363.0746 | J44: =SUM(D44:H44) -> 363.0746
B45: Total out (under) performance | C45: =Data!$C$9 -> £m 18/19 | D45: =SUM(D43:D44) -> 455.01506 | E45: =SUM(E43:E44) -> 346.54762 | F45: =SUM(F43:F44) -> -20.016032 | G45: =SUM(G43:G44) -> 205.54392 | H45: =SUM(H43:H44) -> 113.1355 | I45: =SUM(D45:INDEX(D45:H45,0,MATCH('RFPR cover'!$C$9,$D$6:$H$6,0))) -> 1100.2261 | J45: =SUM(D45:H45) -> 1100.2261
B47: =IF(Sector="GD2","Capitalisation 2 totex (excluding repex)","Capitalisation 2 totex") -> Capitalisation 2 totex
B49: Latest Totex actuals/forecast | C49: =Data!$C$9 -> £m 18/19 | D49: 247.73109 | E49: 273.05138 | F49: 545.22213 | G49: 1339.4836 | H49: 2258.4865 | I49: =SUM(D49:INDEX(D49:H49,0,MATCH('RFPR cover'!$C$9,$D$6:$H$6,0))) -> 4663.9747 | J49: =SUM(D49:H49) -> 4663.9747
B50: Totex allowance | C50: =Data!$C$9 -> £m 18/19 | D50: -0.81490753 | E50: 151.11073 | F50: 790.97413 | G50: 1387.1357 | H50: 2409.5318 | I50: =SUM(D50:INDEX(D50:H50,0,MATCH('RFPR cover'!$C$9,$D$6:$H$6,0))) -> 4737.9375 | J50: =SUM(D50:H50) -> 4737.9375
B51: Totex out(under)performance | C51: =Data!$C$9 -> £m 18/19 | D51: =D50-D49 -> -248.546 | E51: =E50-E49 -> -121.94066 | F51: =F50-F49 -> 245.752 | G51: =G50-G49 -> 47.652125 | H51: =H50-H49 -> 151.04538 | I51: =I50-I49 -> 73.962851 | J51: =J50-J49 -> 73.962851
...

Sheet R4 - Incentives and Other Rev
A1: R4 - Incentives and Other Revenue
A2: =Licensee -> NGET (TO)
A3: =Reporting_Year -> 2026
D5: =IF(D6<=Reporting_Year,"Actuals","Forecast") -> Actuals | E5: =IF(E6<=Reporting_Year,"Actuals","Forecast") -> Actuals | F5: =IF(F6<=Reporting_Year,"Actuals","Forecast") -> Actuals | G5: =IF(G6<=Reporting_Year,"Actuals","Forecast") -> Actuals | H5: =IF(H6<=Reporting_Year,"Actuals","Forecast") -> Actuals | I5: =IF(I6<=Reporting_Year,"Actuals","Forecast") -> Forecast
D6: ='RFPR cover'!$C$6 -> 2022 | E6: =D6+1 -> 2023 | F6: =E6+1 -> 2024 | G6: =F6+1 -> 2025 | H6: =G6+1 -> 2026 | I6: ="Cumulative to "&'RFPR cover'!$C$9 -> Cumulative to 2026 | J6: RIIO-2 period
D7: =RIIO_2_start_date-1&"/"&RIGHT(RIIO_2_start_date,2) -> 2021/22 | E7: =RIIO_2_start_date&"/"&RIGHT(RIIO_2_start_date+1,2) -> 2022/23 | F7: =RIIO_2_start_date+1&"/"&RIGHT(RIIO_2_start_date+2,2) -> 2023/24 | G7: =RIIO_2_start_date+2&"/"&RIGHT(RIIO_2_start_date+3,2) -> 2024/25 | H7: =RIIO_2_start_date+3&"/"&RIGHT(RIIO_2_start_date+4,2) -> 2025/26
B8: Output Incentives (Post Tax)
A12: a | B12: Business Plan Incentive (per latest PCFM company-specific Input Sheet) | C12: =Data!$C$9 -> £m 18/19 | D12: =INDEX(Data!$C$98:$I$126,MATCH($A$2,Data!$B$98:$B$126,0),MATCH(D$6,Data!$C$97:$I$97)) -> -13 | E12: =INDEX(Data!$C$98:$I$126,MATCH($A$2,Data!$B$98:$B$126,0),MATCH(E$6,Data!$C$97:$I$97)) -> -13 | F12: =INDEX(Data!$C$98:$I$126,MATCH($A$2,Data!$B$98:$B$126,0),MATCH(F$6,Data!$C$97:$I$97)) -> -13 | G12: =INDEX(Data!$C$98:$I$126,MATCH($A$2,Data!$B$98:$B$126,0),MATCH(G$6,Data!$C$97:$I$97)) -> -13 | H12: =INDEX(Data!$C$98:$I$126,MATCH($A$2,Data!$B$98:$B$126,0),MATCH(H$6,Data!$C$97:$I$97)) -> -13 | I12: =SUM(D12:INDEX(D12:H12,0,MATCH('RFPR cover'!$C$9,$D$6:$H$6,0))) -> -65 | J12: =SUM(D12:H12) -> -65
B13: Output Incentives (per latest PCFM company-specific Input Sheet)
A14: b | B14: =Data!B132 -> Energy not supplied ODI - (SpC 4.2) | C14: =Data!$C$9 -> £m 18/19 | D14: 0.83399659 | E14: 0.98304835 | F14: 1.0190981 | G14: -1.4711062 | H14: 0.81874478 | I14: =SUM(D14:INDEX(D14:H14,0,MATCH('RFPR cover'!$C$9,$D$6:$H$6,0))) -> 2.1837816 | J14: =SUM(D14:H14) -> 2.1837816
A15: c | B15: =Data!B133 -> Insulation And Interruption Gas emissions ODI - (SpC 4.3) | C15: =Data!$C$9 -> £m 18/19 | D15: 1.4363532 | E15: 1.1102641 | F15: -0.58971806 | G15: 1.0500236 | H15: 1.7855065 | I15: =SUM(D15:INDEX(D15:H15,0,MATCH('RFPR cover'!$C$9,$D$6:$H$6,0))) -> 4.7924293 | J15: =SUM(D15:H15) -> 4.7924293
A16: d | B16: =Data!B134 -> Timely Connections ODI - (SpC 4.4) | C16: =Data!$C$9 -> £m 18/19 | D16: -0.26270833 | E16: -0.17785824 | F16: -0.017989091 | G16: -0.10570513 | H16: -0.095317919 | I16: =SUM(D16:INDEX(D16:H16,0,MATCH('RFPR cover'!$C$9,$D$6:$H$6,0))) -> -0.65957871 | J16: =SUM(D16:H16) -> -0.65957871
A17: e | B17: =Data!B135 -> Quality of connections satisfaction survey ODI - (SpC 4.5) | C17: =Data!$C$9 -> £m 18/19 | D17: 0.23532604 | E17: -3.2701118 | F17: -2.9870223 | G17: -7.3686084 | H17: -4.1304279 | I17: =SUM(D17:INDEX(D17:H17,0,MATCH('RFPR cover'!$C$9,$D$6:$H$6,0))) -> -17.520844 | J17: =SUM(D17:H17) -> -17.520844
A18: f | B18: =Data!B136 -> SO-TO Optimisation ODI - (SpC 4.7) | C18: =Data!$C$9 -> £m 18/19 | D18: 5 | E18: 5 | F18: 5.8556289 | G18: 4.1777733 | H18: 2.9525169 | I18: =SUM(D18:INDEX(D18:H18,0,MATCH('RFPR cover'!$C$9,$D$6:$H$6,0))) -> 22.985919 | J18: =SUM(D18:H18) -> 22.985919
