Workbook
Name BuildingType: Table1[Building Types]
Name City: Table504[City]
Name CompType: Table811[Compressor Type]
Name Controls: Table815[Control Type]
Name CustCat: Table16[]
Name CustomCap: Table1720[CustomCap]
Name Doors: Table6[Door Types]
Name HeatingSource: Table3[]
Name HeatingSource_ElecList: Table11[HeatingSource_ElecList]
Name HeatingSource_FuelList: Table611[HeatingSource_FuelList]
Name HeatingSource_NAList: Table13[HEatingSource_NAList]
Name NoList: #REF!
Name PrescriptiveCap: Table1720[PrescriptiveCap]
Name sec_AirCompVSD: #REF!
Name sec_CAFC: #REF!
Name sec_CustomApplication: 'Custom Worksheet'!$B$1
Name sec_LPDF: #REF!
Name sec_RefDry: #REF!
Name sec_TRMIM: #REF!
Name sec_ZLCD: #REF!
Name Shift_Hrs: Table79[]
Name States: Table39[States]
Name TRMCity: Table504[TRM City]
Name YesList: #REF!
Name ZipCode: Table504[Zip Code]

Sheet App Instruct
A2: Program Application
A3: Supplemental Measures Program | F3: =IF('App Cust Info'!H29="Yes","SMB",IF('App Cust Info'!H29="No","SHIFT",IF(AND('Savings Summary'!D36=TRUE,'Savings Summary'!E36<>""),'Savings Summary'!E36,"")))
A6: This Program is designed for Commercial or Industrial customers to help replace aging and inefficient equipment and systems with more energy efficient technologies. Incentives are intended to help reduce upfront costs for higher-efficient equipment while supporting overall business operations and performance.
A8: Application and Instructions
A9: The incentives set forth in this application will be provided for the installation of equipment retrofits. Incentives are ONLY for the installation types outlined.
A11: Eligibility:
A12: • Must be an Upstate New York National Grid Commercial Electric and/or Natural Gas Account holder and pay into the System Benefits Charge (SBC).
A13: • IRS recognized farms and religious organizations may also be eligible if they pay into the SBC. Please verify with a copy of a National Grid electric utility bill.
A14: • Product types eligible for incentives are included in Tables 1 - 18 found on the Supp Meas Worksheet and Comp Air Worksheet. Complete details required in each applicable table.
A15: • Measures not listed in the tables may be eligible for incentives through the Custom approach. | H15: Please refer to the Custom Worksheet for more details.
A16: • Customers with average billed demand (kW) for the last 12 months that is 250 kW or less for electric customers or 50,000 annual therms or less for gas customers are eligible to receive Small/Medium Business Supplemental Program incentives. Eligibilty is determined by electric service rate and usage entered on App Cust Info tab. Usage will be verified against latest 12 month billing data.
A17: • For Eligible Small Business Customers - Incentives outlined will cap at 70% of total project cost for NIMO Customers and 85% for KEDNY & KEDLI Gas Customers or $50,000, whichever is the lesser. For those small/medium business eligible customers who are also located in a Disadvanaged Community (DAC) they will be eligible for additional incentives up to 85% of total project cost for NIMO Customers and 90% for KEDNY & KEDLI Gas Customers or $50,000, whichever is the lesser.
A18: • For Commercial/Industrial customers not eligible for Small Business (LCI) - Incentives outlined will cap at 65% of total project cost for NIMO, KEDNY & KEDLI Customers or $100,000, whichever is the lesser. For those LCI customers who are located in a Disadvanaged Community (DAC) they will be eligible for additional incentives up to 85% of total project cost for NIMO, KEDNY & KEDLI Customers or $100,000, whichever is the lesser. LCI Custom projects will use the same caps up to $250,000.
A19: • Incentives outlined per measure are dynamic based on customer details entered. Incentives may change based on verification of application and customer information entered.
A20: • Customers that are served by National Grid for both gas and electric will receive incentives based on the fuel source of the heating system.
A22: Pre-Approval Requirements:
A23: • Only completed applications will be considered and reviewed for incentive eligibility.
A24: • All projects require a pre-inspection prior to National Grid issuing an incentive offer letter.
A25: • BEFORE purchasing and installing the equipment, ensure the project is eligible for an incentive.
A26: • National Grid account number, Federal Tax ID numbers and a W-9 form for the customer must be provided.
A27: • Be sure to identify the customer or installation contractor receiving the incentive and where the check is to be sent.
A29: Application Steps:
... A44: • This Supplemental Program covers applications created on or after July 1st of the current year. Details of this Program, including incentive levels, are subject to change without prior notice. The application and all required documents must be provided as a complete package in one email to your NG Representative, otherwise it will be placed on hold.
A51: 1-855-236-7052 |energysavings@nationalgrid.com | www.ngrid.com/unybiz | K51: Rev 1 (9/26)
A53: Rev 1 | B53: Added Compressed Air Measures to program & incorporated both SMB and SHIFT incentives into 1 application.

Sheet App Cust Info
A2: ='App Instruct'!A2 -> Program Application
A3: ='App Instruct'!A3 -> Supplemental Measures Program | E3: ='App Instruct'!F3
A5: YELLOW CELLS REQUIRED FOR OTHER WORKSHEETS IN THIS EXCEL FILE TO CALCULATE PROPERLY.
A6: ALL FIELDS ON THIS PAGE ARE REQUIRED. SHADED CELLS MUST BE COMPLETED FOR INCENTIVES TO BE CALCULATED, AND ALL PAYEE INFORMATION MUST BE COMPLETE AND ACCURATE TO ENSURE CORRECT CHECK PROCESSING AND PREVENT ADDITIONAL COSTS AND DELAYS ASSOCIATED WITH CHECK CANCELLATION AND REISSUANCE.
A7: CUSTOMER/ACCOUNT HOLDER INFORMATION (Customer must submit a W-9 Form)
A8: CUSTOMER OF RECORD | E8: CONTACT PERSON | I8: APPLICATION DATE
A10: PHONE NUMBER | E10: EMAIL ADDRESS
A12: BUSINESS NAME (IF DIFFERENT THAN CUSTOMER OF RECORD) | E12: CUSTOMER FEDERAL TAX ID NUMBER | H12: SQUARE FEET (COVERED BY THIS APPLICATION)
A14: STREET ADDRESS | E14: CITY | H14: STATE | J14: ZIP
E15: =IFERROR(VLOOKUP(J15,Reference!$E$2:$I$2210,2,FALSE),"") | H15: NY
A16: MAILING ADDRESS (IF DIFFERENT) | E16: CITY | H16: STATE | J16: ZIP
A18: COMPANY TYPE: | E18: IS THE INSTALLATION SITE LOCATED IN A NYS DISADVANTAGED COMMUNITY (DAC): Select either yes or no
E19: FALSE | G19: FALSE | H19: To determine go to: | J19: Disadvantaged Communities | NYSERDA
A20: BUILDING TYPE (SELECT ONE) | E20: BUILDING HVAC SYSTEM (SELECT ONE) | I20: AIR HANDLING (SELECT ONE)
A22: NUBER OF OPERATING SHIFTS (SELECT ONE) | E22: HEATING SYSTEM FUEL SOURCE (SELECT ONE) | I22: COOLING SYSTEM FUEL SOURCE (SELECT ONE)
A24: EXISTING EFF. OF COMBINED COOLER (> 32˚ F) COMPRESSORS & CONDENSERS (kW/ton) (if unknown, leave blank and the default values from NYS TRM will be used) | G24: EXISTING EFF. OF COMBINED FREEZER (≤ 32˚ F) COMPRESSORS & CONDENSERS (kW/ton) (if unknown, leave blank and the default values from NYS TRM will be used)
A26: CUSTOMER OF RECORD - NATIONAL GRID ELEC ACCOUNT NO.: | E26: ANNUAL KWH USAGE: (REQUIRED) | H26: ANNUAL AVERAGE $/ kWh (SUPPLY) | J26: ANNUAL AVERAGE $/ kWh (DELIVERY)
A28: NATIONAL GRID ELECTRIC RATE (SELECT FROM LIST) | D28: =IF(AND(A29="SC2D",E29<=250),"Small","") | E28: AVERAGE BILLED DEMAND LAST 12 MONTHS | H28: ELIGIBLE FOR SMALL BUSINESS (≤250 kW or ≤50,000 therms)
H29: =IF(AND(A9="",J15="",D28=""),"",IF(OR(AND($A$29="SC3",D28<>"Small"),AND(A29="SC2D",D28<>"Small"),E31>50000),"No","Yes"))
A30: CUSTOMER OF RECORD - NATIONAL GRID NAT. GAS ACCOUNT NO.: | E30: ANNUAL THERM USAGE: | H30: ANNUAL AVERAGE $/ THERM
A32: INCENTIVE PAYMENT
A35: BUSINESS NAME | E35: CONTACT PERSON
A37: STREET ADDRESS | E37: CITY | H37: STATE | J37: ZIP
A39: PHONE | E39: EMAIL ADDRESS
A41: COMPANY TYPE | E41: FEDERAL TAX ID NUMBER (REQUIRED IF RECEIVING INCENTIVE)
A44: INSTALLATION CONTRACTOR/ PROJECT EXPEDITER INFORMATION
A45: INSTALLATION CONTRACTOR COMPANY | E45: CONTRACTOR CONTACT PERSON
A47: STREET ADDRESS | E47: CITY | H47: STATE | J47: ZIP
A49: PHONE | E49: EMAIL ADDRESS
A51: COMPANY TYPE | E51: FEDERAL TAX ID NUMBER (REQUIRED IF RECEIVING INCENTIVE)
A54: EQUIPMENT VENDOR INFORMATION
A55: EQUIPMENT VENDOR | E55: VENDOR CONTACT PERSON
A57: STREET ADDRESS | E57: CITY | H57: STATE | J57: ZIP
A59: PHONE | E59: EMAIL ADDRESS
A61: COMPANY TYPE | E61: FEDERAL TAX ID NUMBER (REQUIRED IF RECEIVING INCENTIVE)
A64: ADDITIONAL APPLICATION INFORMATION
A65: EXPECTED COMPLETION DATE OF PROJECT
A67: Enter total costs for each measure proposed on Supp Meas Worksheet
A68: * AN ACTUAL INVOICE ON COMPANY LETTERHEAD IS REQUIRED TO BE SUBMITTED TO NATIONAL GRID BEFORE FINAL PAYMENT OF INCENTIVE | H68: Total Project Cost | I68: ='Savings Summary'!K28+'Savings Summary'!K30 -> 0
A70: CUSTOMER ACCEPTANCE OF TERMS
...

Sheet Terms & Conditions
A2: ='App Instruct'!A2 -> Program Application
A3: ='App Instruct'!A3 -> Supplemental Measures Program | F3: ='App Instruct'!F3
A5: Subject to these terms and conditions ("Terms and Conditions"), under the Commercial & Industrial Gas Efficiency Program ("Program") Niagara Mohawk Power Corporation d/b/a National Grid (the "Company" or "National Grid") will pay incentives to eligible customers for the installation of Energy Efficiency Measures ("EEMs") described in the Program Materials (as defined below).
A6: 1. Incentives
A7: Subject to these terms and conditions (“Terms and Conditions”) of the Program, the Program Administrator will pay an Incentive to the Customer for the installation of EEM(s).
A8: 2. Definitions
A9: (a) “Customer” means the customer who has an account for service with the Program Administrator and who satisfies the Program eligibility requirements established by the Program Administrator under the Program Materials and these Terms and Conditions.
A10: (b) “EEM” means the energy efficiency measure(s) described in the Program Materials or other custom measures that may be approved by the Program Administrator.
A11: (c) “Facility” means the Customer’s premises or location served by the Program Administrator where EEM(s) will be installed.
A12: (d) “Incentive” means the payment(s) to be paid by the Program Administrator to the Customer for the installation of the EEM(s) pursuant to the Program and these Terms and Conditions.
A13: (e) “Program” means the Commercial and Industrial Electric Program as approved by the New York Public Service Commission and offered by the Program Administrator to Customers.
A14: (f) “Program Administrator” means Niagara Mohawk Power Corporation d/b/a/ National Grid.
A15: (g) “Program Materials” means the documents and information provided by the Program Administrator specifying the qualifying EEM(s), technology requirements, costs and other Program requirements, which include, without limitation, Program guidelines and requirements, application forms and approval letters.
A16: 3. Application Process and Requirement for Program Administrator Approval
... A66: (e) Sections 15, 16, 17, 18 and 20(b) shall survive the termination or expiration of the Customer’s participation in the Program.
A77: 1-800-787-1706 energysavings@nationalgrid.com | www.ngrid.com/business | K77: Rev 0 (7/1/26)

Sheet Extra Sheet For User Notes
A2: ='App Instruct'!$A$2 -> Program Application
A3: ='App Instruct'!A3 -> Supplemental Measures Program | F3: ='App Instruct'!F3
A5: Extra Sheet for Notes
A45: 1-855-236-7052 |energysavings@nationalgrid.com | www.ngrid.com/unybiz | J45: ='App Instruct'!K51 -> Rev 1 (9/26)

Sheet Supp Meas Worksheet
B2: Program Application
B3: ='App Instruct'!A3 -> Supplemental Measures Program | E3: ='App Instruct'!F3
B5: Customer: | C5: ='App Cust Info'!A9 -> 0 | E5: Region: | F5: =IFERROR(VLOOKUP('App Cust Info'!J15,Table504[],3,FALSE),"Albany") -> Albany | H5: Bldg HVAC: | I5: =IF('App Cust Info'!E21="","default",'App Cust Info'!E21) -> default | K5: Utility: | L5: =IFERROR(IF(F5="NYC","KEDLI/ KEDNY","NIMO"),"") -> NIMO | M5: =IF(AND('App Cust Info'!$A$27>0,'App Cust Info'!$A$31>0,'App Cust Info'!$E$23="Natural Gas",'App Cust Info'!$I$23="Electric",$L$5="NIMO"),"E & G",IF(AND('App Cust Info'!$A$27>0,'App Cust Info'!$A$31="",OR('App Cust Info'!$E$23="Electric",'App Cust Info'!$I$23="Electric")),"E",IF(AND('App Cust Info'!$A$27="",'App Cust Info'!$A$31>0,'App Cust Info'!$E$23="Natural Gas"),"G","**Enter Accnt Details on App Cust Info tab**"))) -> **Enter Accnt Details on App Cust Info tab**
B6: *All Yellow cells required to be completed | N6: EACH LINE ITEM SHOULD BE ENTERED AS A SEPARATE PRODUCT IN CE2.0
B8: Refrigeration and Controls Measures
B9: Electric Savings Measures | K9: Electric & Natural Gas Savings Measures
B13: HVAC and Controls Measures
B14: Electric & Natural Gas Measures
B18: Compressed Air Measures | K18: Domestic Hot Water Savings Measures
B19: Electric Savings Measures | K19: Electric & Natural Gas Savings Measures
B24: Table 1:
B25: Air Cooled Refrigeration Condenser | L25: Category: | M25: Refrigeration Systems and Controls
B26: Rack Temperature | C26: Number of Condensers | D26: Tons of Refrigeation per unit (nameplate of condenser) | F26: General Qualifications:
B27: ='Indirect Refrig Savings'!$B$3 -> Cooler (> 32˚F) | F27: • Existing compressor is assumed to have approach temperatures of 15°F for Freezer and 20°F for Cooler applications with a standard efficiency of 45 BTU/h of heat rejection capacity per watt of fan power. | L27: Incentive per Condenser
B28: ='Indirect Refrig Savings'!$B$4 -> Freezer (≤ 32˚F) | F28: • New Condenser shall have approach temperatures of 8°F or less for Freezer and 13°F or less for Cooler applications. Condenser efficiency shall be greater than or equal to 85 BTU/h of heat rejection capacity per watt of fan power. | L28: =IFERROR(INDEX(Reference!$S$2:$Z$22,MATCH('Supp Meas Worksheet'!B25,Reference!$R$2:$R$22,0),MATCH('Supp Meas Worksheet'!$E$3&'Supp Meas Worksheet'!$L$5&'Savings Summary'!$B$4,Reference!$S$1:$Z$1,0)),0) -> 0
B29: Material Cost
B30: Labor Cost
B32: Table 2:
B33: Automatic Door Closers for Walk-in Coolers or Freezers | L33: Category: | M33: Refrigeration Systems and Controls
B34: Walk-in Cooler Temperature | D34: Total Number of Automatic Door Closers | F34: General Qualifications:
B35: ='Indirect Refrig Savings'!$B$3 -> Cooler (> 32˚F) | F35: • Automatic door closers must be installed on walk-in coolers & freezer doors with no auto closers currently or strip curtains and door perimeter is ≥ 16 ft. | L35: Incentive per Door Closer
B36: ='Indirect Refrig Savings'!$B$4 -> Freezer (≤ 32˚F) | L36: =IFERROR(INDEX(Reference!$S$2:$Z$22,MATCH(B33,Reference!$R$2:$R$22,0),MATCH('Supp Meas Worksheet'!$E$3&$L$5&'Savings Summary'!$B$4,Reference!$S$1:$Z$1,0)),0) -> 0
B37: Material Cost
B38: Labor Cost
B40: Table 3:
B41: Installation of Doors on Existing Verticle Open Reach-in Display Case | L41: Category: | M41: Refrigeration Systems and Controls
B42: General Qualifications:
B43: • Adding doors on existing verticle reach-in cases can be either High Efficiency, which includes multiple layers of glass, low-conductivity filler gas, or low-emissivity glass coating to prevent condensation (no anti-condensation heater) or Standard (with anti-condensation heater in doors, frames, or within the glass)
B44: • If heated doors are installed Anti-Sweat Heater Controls are recommended to be utilized (further incentives would apply, see Table 3, Anti-Condensate Heater Controls)
B45: • refrigerated verticle reach-in cases are assumed to operate 8,760 hours per year.
B46: • If installation site heating and cooling system is supplied by National Grid, incentives for both electric and gas can be received.
B47: Case Temperature | D47: Proposed Door Type (select from list) | F47: Total Length of Display Case Opening (ft) | H47: =IF(D48="High Efficiency Door with NO anti-condensation heaters","High Efficiency Door",IF(D48="Standard Door with anti-condensation heaters","Standard Efficiency Door",""))
B48: ='Indirect Refrig Savings'!$B$3 -> Cooler (> 32˚F) | K48: Incentive per Linear Foot of Display Case
B49: ='Indirect Refrig Savings'!$B$4 -> Freezer (≤ 32˚F) | K49: =IFERROR(INDEX(Reference!$S$2:$Z$22,MATCH(B41&H47,Reference!$R$2:$R$22,0),MATCH('Supp Meas Worksheet'!$E$3&$L$5&'Savings Summary'!$B$4,Reference!$S$1:$Z$1,0)),0) -> 0
B50: Material Cost
B51: Labor Cost | H51: =IFERROR(IF(AND(RIGHT(H48,5)="E & G",'Savings Summary'!B4="DAC"),INDEX('Supp Meas Worksheet'!J49:J50,MATCH('Supp Meas Worksheet'!H47,'Supp Meas Worksheet'!H49:H50,0))+INDEX('Supp Meas Worksheet'!L49:L50,MATCH('Supp Meas Worksheet'!H47,'Supp Meas Worksheet'!H49:H50,0)),IF(AND(RIGHT(H48,5)="E & G",'Savings Summary'!B4<>"DAC"),INDEX('Supp Meas Worksheet'!I49:I50,MATCH('Supp Meas Worksheet'!H47,'Supp Meas Worksheet'!H49:H50,0))+INDEX('Supp Meas Worksheet'!K49:K50,MATCH('Supp Meas Worksheet'!H47,'Supp Meas Worksheet'!H49:H50,0)),INDEX(I49:N50,MATCH(H47,H49:H50,0),MATCH(H48,#REF!,0)))),0) -> 0
B53: Table 4:
B54: Evaporator Fan Motor Replacement - Permanent Magnet Synchronous Motor (PMSM) | L54: Category: | M54: Motors
B55: General Qualifications:
B56: • Only applicable on 1 for 1 replacement of single-phase Shaded Pole (SP), Permanent Split Capacitor (PSC), or Electronically Commutated Motors (ECM) in equipment currently in operation with equivalent speed and horsepower. Evaporator fan upgrades in Walk-in coolesrs/ freezers and refrigerated reach-in display cases are eligible.
...

Sheet Comp Air Measures
A2: ='App Instruct'!A2 -> Program Application
A3: ='App Instruct'!A3 -> Supplemental Measures Program | D3: ='App Instruct'!F3
A5: Compressed Air System Details
A6: General Qualifications: | G6: Default Annual Hours of Operation based on No. of Shifts | H6: =IFERROR(VLOOKUP('App Cust Info'!$A$23,Shift_Hrs,2,FALSE),"")
A7: • Only Provide details for air compressors in operation, no back-up compressors should be included in savings calculations.
A8: System Details | D8: Compressor #1 | E8: Compressor #2 | F8: Compressor #3 | G8: Compressor #4 | H8: Compressor #5
A9: Manufacturer and Model Number
A10: Type of Air Compressor (select from list)
A11: Age
A12: Rated Horse Power
A13: Control Type (select from list)
A14: Compressor Motor Efficiency (decimal)
A15: Operating Pressure (PSIG)
A16: Annual Hours of Operation (if unknown, leave blank)
A18: Table 16:
A19: Air Compressor Replacement | G19: Category: | H19: Compressed Air Systems and Controls
A20: General Qualifications:
A21: • Replacement of existing oil flooded, rotary screw air compressor with new variable speed drive compressor. Applicable for single unit replacement only.
A22: • Sizing of replacement compressor must be no larger than unit being replaced. Exception, would be replacement with VSD compressor, in which case HP can be one size larger than HP of unit being replaced. | G22: Air Compressor ≥15 - 500 HP Incentive per HP
A23: • A flow controller must be used to maintain 5-10psi pressure difference between receiver and distribution system. | G23: =IFERROR(INDEX(Reference!$S$2:$Z$22,MATCH(A19,Reference!$R$2:$R$22,0),MATCH('Supp Meas Worksheet'!$E$3&'Supp Meas Worksheet'!$L$5&'Savings Summary'!$B$4,Reference!$S$1:$Z$1,0)),0) -> 0
A24: • New variable speed drive air compressor must include a properly sized air receiver.
A25: • Replacement of lead-lag air compressors or other types not listed may be eligible for incentives through the custom program. Use this application to enter system details for custom review.
A26: Compressor Being Replaced (select from list) | D26: Existing Compressor Horse Power | E26: Annual Hours of Compressor Operation | F26: Proposed Compressor Model # | H26: Proposed Compressor Horse Power | I26: Calculated Incentive
D27: =IFERROR(INDEX($D$12:$H$12,MATCH(A27,$D$8:$H$8,0)),"") | E27: =IFERROR(IF(INDEX($D$16:$H$16,MATCH(A27,$D$8:$H$8,0))>0,INDEX($D$16:$H$16,MATCH(A27,$D$8:$H$8,0)),$H$6),"") | I27: =IF(AND(H27>=15,H27<500),H27*G23,0) -> 0
D28: =IFERROR(INDEX($D$12:$H$12,MATCH(A28,$D$8:$H$8,0)),"") | E28: =IFERROR(IF(INDEX($D$16:$H$16,MATCH(A28,$D$8:$H$8,0))>0,INDEX($D$16:$H$16,MATCH(A28,$D$8:$H$8,0)),$H$6),"") | I28: =IF(AND(H28>=15,H28<500),H28*G24,0) -> 0
D29: =IFERROR(INDEX($D$12:$H$12,MATCH(A29,$D$8:$H$8,0)),"") | E29: =IFERROR(IF(INDEX($D$16:$H$16,MATCH(A29,$D$8:$H$8,0))>0,INDEX($D$16:$H$16,MATCH(A29,$D$8:$H$8,0)),$H$6),"") | I29: =IF(AND(H29>=15,H29<500),H29*G25,0) -> 0
D30: =IFERROR(INDEX($D$12:$H$12,MATCH(A30,$D$8:$H$8,0)),"") | E30: =IFERROR(IF(INDEX($D$16:$H$16,MATCH(A30,$D$8:$H$8,0))>0,INDEX($D$16:$H$16,MATCH(A30,$D$8:$H$8,0)),$H$6),"") | I30: =IF(AND(H30>=15,H30<500),H30*G26,0) -> 0
D31: =IFERROR(INDEX($D$12:$H$12,MATCH(A31,$D$8:$H$8,0)),"") | E31: =IFERROR(IF(INDEX($D$16:$H$16,MATCH(A31,$D$8:$H$8,0))>0,INDEX($D$16:$H$16,MATCH(A31,$D$8:$H$8,0)),$H$6),"") | I31: =IF(AND(H31>=15,H31<500),H31*G27,0) -> 0
G32: Material Cost
G33: Labor Cost
A35: Table 17:
A36: Compressed Air Flow Controller | G36: Category: | H36: Compressed Air Systems and Controls
A37: General Qualifications:
A38: • Flow controller must be installed on existing compressed air system with a total capacity greater than or equal to 50 hp without a pressure/flow controller. | G38: Incentive per HP
A39: • Flow controller must be installed between the compressed air dry storage tank and the end use distribution system. | G39: =IFERROR(INDEX(Reference!$S$2:$Z$22,MATCH(A36,Reference!$R$2:$R$22,0),MATCH('Supp Meas Worksheet'!$E$3&'Supp Meas Worksheet'!$L$5&'Savings Summary'!$B$4,Reference!$S$1:$Z$1,0)),0) -> 0
A40: • Each line item represents a flow controller and the compressors impacting the system.
A41: Compressor Connected to Flow Controller (select from list) | D41: Compressor Connected to Flow Controller (select from list) | E41: Compressor Connected to Flow Controller (select from list) | F41: Compressor Connected to Flow Controller (select from list) | G41: Load Factor of Compressed Air System if unknown, leave blank | H41: Average Pre- & Post-Treatment Measured System Pressure Differential (psi) | I41: Total HP Connected to Flow Controller(s)
I42: =IFERROR(INDEX($D$12:$H$12,MATCH(A42,$D$8:$H$8,0)),0)+IFERROR(INDEX($D$12:$H$12,MATCH(D42,$D$8:$H$8,0)),0)+IFERROR(INDEX($D$12:$H$12,MATCH(E42,$D$8:$H$8,0)),0)+IFERROR(INDEX($D$12:$H$12,MATCH(F42,$D$8:$H$8,0)),0) -> 0
I43: =IFERROR(INDEX($D$12:$H$12,MATCH(A43,$D$8:$H$8,0)),0)+IFERROR(INDEX($D$12:$H$12,MATCH(D43,$D$8:$H$8,0)),0)+IFERROR(INDEX($D$12:$H$12,MATCH(E43,$D$8:$H$8,0)),0)+IFERROR(INDEX($D$12:$H$12,MATCH(F43,$D$8:$H$8,0)),0) -> 0
I44: =IFERROR(INDEX($D$12:$H$12,MATCH(A44,$D$8:$H$8,0)),0)+IFERROR(INDEX($D$12:$H$12,MATCH(D44,$D$8:$H$8,0)),0)+IFERROR(INDEX($D$12:$H$12,MATCH(E44,$D$8:$H$8,0)),0)+IFERROR(INDEX($D$12:$H$12,MATCH(F44,$D$8:$H$8,0)),0) -> 0
...

Sheet Custom Worksheet
B2: ='App Instruct'!A2 -> Program Application
B3: ='App Instruct'!A3 -> Supplemental Measures Program | D3: ='App Cust Info'!E3
B5: Customer: | C5: ='App Cust Info'!A9 -> 0
B6: *All Yellow cells required to be completed
D8: Incentives based on energy savings of project
D9: kWh | F9: Therms
D10: =IFERROR(IF('Supp Meas Worksheet'!M5<>"G",Reference!AC2,0),0) -> 0.2 | F10: =IFERROR(IF('Supp Meas Worksheet'!M5<>"E",INDEX(Reference!$AC$2:$AN$2,MATCH('Supp Meas Worksheet'!$E$3&'Savings Summary'!$B$4&'Supp Meas Worksheet'!$L$5&'Supp Meas Worksheet'!$M$5,Reference!$AC$1:$AN$1,0)),0),0) -> 0
B13: PROPOSED EQUIPMENT SPECIFICATION (FACILITY DETAIL) | G13: Category/ Product: | H13: =IFERROR(IF(AND(C15="Refrigeration",'App Cust Info'!A21="Refrigerated Warehouse"),"Custom Projects/Industrial Refrigeration - Custom",VLOOKUP($C$15,CustCat,2,FALSE)),"")
B14: DESCRIPTION OF PROJECT
B15: Type of Custom Project (select from list)
B23: EXISTING SYSTEM DESCRIPTION (include equipment size, age, and operating parameters)
B31: PROPOSED SYSTEM - MEASURE DESCRIPTION (include equipment size and operating parameters)
B39: Manufacturer Incentives, Manufacturer Discounts, Taxes, and/or Salvage Values (If applicable)
B42: Table 1: Electric and Demand Reduction | F42: Table 2: Cost Estimates
B43: Please provide the estimated Demand (kW) Reduction that occurs during the time period listed below and the estimated Annual kWh savings: | F43: Please provide backup documentation for all material and labor costs, broken down by major pieces of equipment and project components. Sales tax may not be included. Adjust for salvage/resale value of equipment being replaced. Enter summarized costs in the table below.
B44: TIME PERIOD | C44: AVERAGE REDUCTION | F44: COST CATEGORY | G44: COST ($)
B45: June 4 pm- 5pm | D45: kW | F45: Estimated Material Cost
B46: July 4 pm - 5pm | D46: kW | F46: Estimated Labor Cost
B47: August 4pm - 5pm | D47: kW | F47: Estimated Total Cost | G47: =G45+G46 -> 0
B48: Annual kWh Savings | D48: kWh
B50: Table 3: Non-Electric Benefits
B51: Installing the proposed measure may result in significant savings or possibly increased costs for the owner beyond electric savings. Examples include water, sewer, fossil fuel and labor costs. These costs are to be assessed and quantified in the support documentation. These effects are to be combined and reported in the categories laid out in Table 3.
B55: Natural Gas - Space Heating | D55: Therms
B56: Natural Gas - Non Heating | D56: Therms
B57: Oil | D57: Gallons
B58: Propane | D58: Gallons
B59: Water | D59: Gallons
B60: Waste Water (Sewer) | D60: Gallons
B61: O&M ($/yr) (Labor & Materials)
B62: Site Environmental
D63: MMBTu | E63: * Other

Sheet Savings Summary
B2: ='App Instruct'!A3&" Savings Summary" -> Supplemental Measures Program Savings Summary | G2: ='App Instruct'!F3
B3: ='App Cust Info'!A9 -> 0 | K3: Total Estimated Incentive: | L3: =SUM(K27,K29) -> 0
B4: =IF('App Cust Info'!E19=TRUE,"DAC","") | L4: Program Cost % | M4: =IFERROR(IF('Savings Summary'!B4="DAC",INDEX(Table17[DAC Incentive Cap],MATCH('Supp Meas Worksheet'!$L$5&'Supp Meas Worksheet'!$E$3,Table17[OPCO],0)),IF('Savings Summary'!B4<>"DAC",INDEX(Table17[MR Incentive Cap],MATCH('Supp Meas Worksheet'!$L$5&'Supp Meas Worksheet'!$E$3,Table17[OPCO],0)),0)),"")
G5: {=INDEX(PrescriptiveCap,MATCH('Supp Meas Worksheet'!L5&'Supp Meas Worksheet'!E3,Table1720[OPCO],0))} -> #N/A
B6: Refrigeration & Controls Prescriptive Measures | G6: Calculated Incentives | I6: Compressed Air Prescriptive Measures | M6: Calculated Incentives
B7: 1 | C7: ='Supp Meas Worksheet'!B33 -> Automatic Door Closers for Walk-in Coolers or Freezers | G7: =IF(AND(SUM('Supp Meas Worksheet'!D35:E36)>0,SUM('Supp Meas Worksheet'!D37:E38)>0,'Supp Meas Worksheet'!M5<>"G"),SUM('Supp Meas Worksheet'!D35:E36)*'Supp Meas Worksheet'!L36,0) -> 0 | I7: 14 | J7: ='Comp Air Measures'!A19 -> Air Compressor Replacement | M7: =IF(AND(SUM('Comp Air Measures'!H27:H31)>0,SUM('Comp Air Measures'!H32:H33)>0,'Supp Meas Worksheet'!M5<>"G"),SUM('Comp Air Measures'!I27:I31),0) -> 0
B8: 2 | C8: ='Supp Meas Worksheet'!B25 -> Air Cooled Refrigeration Condenser | G8: =IF(AND(SUM('Supp Meas Worksheet'!C27:C28)>0,SUM('Supp Meas Worksheet'!D29:E30)>0,'Supp Meas Worksheet'!M5<>"G"),SUM('Supp Meas Worksheet'!C27:C28)*'Supp Meas Worksheet'!L28,0) -> 0 | I8: 15 | J8: ='Comp Air Measures'!A36 -> Compressed Air Flow Controller | M8: =IF(AND(SUM('Comp Air Measures'!I42:I46)>0,SUM('Comp Air Measures'!H47:H48)>0,'Supp Meas Worksheet'!M5<>"G"),SUM('Comp Air Measures'!I42:I46)*'Comp Air Measures'!G39,0) -> 0
B9: 3 | C9: ='Supp Meas Worksheet'!B41 -> Installation of Doors on Existing Verticle Open Reach-in Display Case | G9: =IF(AND(SUM('Supp Meas Worksheet'!F48:G49)>0,SUM('Supp Meas Worksheet'!D50:G51)>0),SUM('Supp Meas Worksheet'!F48:G49)*'Supp Meas Worksheet'!K49,0) -> 0 | I9: 16 | J9: ='Comp Air Measures'!A51 -> Refrigerated Compressed Air Dryer | M9: =IF(AND(SUM('Comp Air Measures'!A57:C57)>0,SUM('Comp Air Measures'!H58:H59)>0,'Supp Meas Worksheet'!M5<>"G"),'Comp Air Measures'!F57*'Comp Air Measures'!G54,0) -> 0
B10: 4 | C10: ='Supp Meas Worksheet'!B54 -> Evaporator Fan Motor Replacement - Permanent Magnet Synchronous Motor (PMSM) | G10: =IF(AND(SUM('Supp Meas Worksheet'!H60:H65)>0,SUM('Supp Meas Worksheet'!D66:E67)>0,'Supp Meas Worksheet'!M5<>"G"),SUM('Supp Meas Worksheet'!H60:H65)*'Supp Meas Worksheet'!L62,0) -> 0 | I10: 17 | J10: ='Comp Air Measures'!A62 -> Compressed Air Low Pressure Drop Filter | M10: =IF(AND(SUM('Comp Air Measures'!A68:A70)>0,SUM('Comp Air Measures'!H71:H72)>0,'Supp Meas Worksheet'!M5<>"G"),SUM('Comp Air Measures'!A68:A70)*'Comp Air Measures'!G65,0) -> 0
B11: 5 | C11: ='Supp Meas Worksheet'!B70 -> Walk-in Refrigerator or Freezer Evaporator Fan Motor Controls | G11: =IF(AND(SUM('Supp Meas Worksheet'!D75:D80)>0,SUM('Supp Meas Worksheet'!D81:E82)>0,'Supp Meas Worksheet'!M5<>"G"),SUM('Supp Meas Worksheet'!D75:D80)*'Supp Meas Worksheet'!L77,0) -> 0 | I11: 18 | J11: ='Comp Air Measures'!A75 -> Compressed Air Zero Loss Condensate Drain | M11: =IF(AND(SUM('Comp Air Measures'!A81:B84)>0,SUM('Comp Air Measures'!H85:H86)>0,'Supp Meas Worksheet'!M5<>"G"),SUM('Comp Air Measures'!A81:B84)*'Comp Air Measures'!G78,0) -> 0
B12: 6 | C12: ='Supp Meas Worksheet'!B85 -> Anti-Condensate Heater Controls for Walk-in and Reach-in Coolers and Freezers | G12: =IF(AND(SUM('Table 6-ACHC'!F5:F10)>0,SUM('Supp Meas Worksheet'!D98:E99)>0,'Supp Meas Worksheet'!M5<>"G"),SUM('Table 6-ACHC'!F5:F10)*'Supp Meas Worksheet'!L88,0) -> 0 | I12: Totals | M12: =SUM(M7:M11) -> 0
B13: 7 | C13: ='Supp Meas Worksheet'!B102 -> Floating Head Pressure Control | G13: =IF(AND(SUM('Supp Meas Worksheet'!C104:D105)>0,SUM('Supp Meas Worksheet'!D106:E107)>0,'Supp Meas Worksheet'!M5<>"G"),SUM('Supp Meas Worksheet'!C104:D105)*'Supp Meas Worksheet'!L105,0) -> 0
B14: Totals | G14: =SUM(G7:G13) -> 0
M15: {=INDEX(CustomCap,MATCH('Supp Meas Worksheet'!L5&'Supp Meas Worksheet'!E3,Table1720[OPCO],0))} -> #N/A
B16: HVAC & Controls Prescriptive Measures | G16: Calculated Incentives | I16: Custom | J16: kWh Savings | K16: kW Savings | L16: Therm Savings | M16: Calculated Incentives
B17: 8 | C17: ='Supp Meas Worksheet'!B110 -> Advanced Rooftop Unit Control | G17: =IFERROR(IF(AND(SUM('Supp Meas Worksheet'!B112:B115)>0,SUM('Supp Meas Worksheet'!D116:F117)>0),SUM('Supp Meas Worksheet'!B112:B115)*'Supp Meas Worksheet'!L114,0),"Custom $") -> 0 | I17: ='Custom Worksheet'!C15 -> 0 | J17: ='Custom Worksheet'!C48 -> 0 | K17: =IFERROR(AVERAGE('Custom Worksheet'!C45:C47),0) -> 0 | L17: =IF('Custom Worksheet'!C55>0,'Custom Worksheet'!C55,'Custom Worksheet'!C56) -> 0 | M17: =IF(AND('Supp Meas Worksheet'!$M$5<>"G",'Savings Summary'!$B$4="DAC",'Custom Worksheet'!G47>0),J17*'Custom Worksheet'!$D$10,IF(AND('Supp Meas Worksheet'!$M$5<>"G",'Savings Summary'!$B$4<>"DAC",'Custom Worksheet'!G47>0),$J$17*'Custom Worksheet'!$D$10,IF(AND('Supp Meas Worksheet'!$M$5="G",'Savings Summary'!$B$4="DAC",'Supp Meas Worksheet'!$L$5="NIMO",'Custom Worksheet'!G47>0),'Savings Summary'!$L$17*'Custom Worksheet'!$F$10,IF(AND('Supp Meas Worksheet'!$M$5<>"G",'Savings Summary'!$B$4<>"DAC",'Supp Meas Worksheet'!$L$5="NIMO",'Custom Worksheet'!G47>0),$J$17*'Custom Worksheet'!$D$10,IF(AND('Supp Meas Worksheet'!$M$5="G",'Savings Summary'!$B$4="DAC",'Supp Meas Worksheet'!$L$5="KEDLI/ KEDNY",'Custom Worksheet'!G47>0),'Savings Summary'!$L$17*'Custom Worksheet'!$F$10,IF(AND('Supp Meas Worksheet'!$M$5<>"G",'Savings Summary'!$B$4<>"DAC",'Supp Meas Worksheet'!$L$5="KEDLI/ KEDNY",'Custom Worksheet'!G47>0),$J$17*'Custom Worksheet'!$D$10,0)))))) -> 0
B18: 9 | C18: ='Supp Meas Worksheet'!B120 -> Demand Control Ventilation | G18: =IFERROR(IF(AND(SUM('Supp Meas Worksheet'!B122:E124)>0,SUM('Supp Meas Worksheet'!D125:E126)>0),SUM('Supp Meas Worksheet'!B122:E124)*'Supp Meas Worksheet'!L123,0),"Custom $") -> 0 | I18: Totals | J18: =SUM(J17) -> 0 | K18: =SUM(K17) -> 0 | L18: =SUM(L17) -> 0 | M18: =SUM(M17) -> 0
B19: 10 | C19: ='Supp Meas Worksheet'!B129 -> Kitchen Hood Demand Control Ventilation | G19: =IF(AND(SUM('Supp Meas Worksheet'!D131:E133)>0,SUM('Supp Meas Worksheet'!D134:E135)>0),SUM('Supp Meas Worksheet'!D131:E133)*'Supp Meas Worksheet'!L132,0) -> 0 | I19: =IF(AND(M17>0,OR(J17>0,L17>0,)),"","**Enter Custom Project Details on Custom Tab**") -> **Enter Custom Project Details on Custom Tab**
B20: 11 | C20: ='Supp Meas Worksheet'!B138 -> Energy Recovery Ventilator (Sensible & Latent Heat) | G20: =IFERROR(IF(AND(SUM('Supp Meas Worksheet'!B164:B168)>0,SUM('Supp Meas Worksheet'!D169:E170)>0),SUM('Supp Meas Worksheet'!F164:F168)*'Supp Meas Worksheet'!L159,0),"Custom $") -> 0
B21: 12 | C21: ='Supp Meas Worksheet'!B156 -> Heat Recovery Ventilator (Sensible Heat) | G21: =IFERROR(IF(AND(SUM('Supp Meas Worksheet'!B165:B169)>0,SUM('Supp Meas Worksheet'!D170:E171)>0),SUM('Supp Meas Worksheet'!F165:F169)*'Supp Meas Worksheet'!L160,0),"Custom $") -> 0
B22: 13 | C22: ='Supp Meas Worksheet'!B174 -> Communicating Thermostat | G22: =IFERROR(IF(AND(SUM('Supp Meas Worksheet'!B176:C178)>0,SUM('Supp Meas Worksheet'!D179:E180)>0),SUM('Supp Meas Worksheet'!B176:C178)*'Supp Meas Worksheet'!L177,0),"Custom $") -> 0 | I22: Average Electric Cost
B23: 14 | C23: ='Supp Meas Worksheet'!B183 -> Hotel/ Motel Guest Room Energy Management System (Occ Sensor) | G23: =IF(AND(SUM('Supp Meas Worksheet'!B192:B196)>0,SUM('Supp Meas Worksheet'!D197:E198)>0),SUM('Supp Meas Worksheet'!B192:B196)*'Supp Meas Worksheet'!L187,0) -> 0 | J23: ='App Cust Info'!H27+'App Cust Info'!J27 -> 0 | K23: /kWhr
B24: Totals | G24: =SUM(G17:G23) -> 0 | I24: Average Gas Cost
J25: ='App Cust Info'!H31 -> 0 | K25: /Therm
B26: Domestic Hot Water & Controls Prescriptive Measures | G26: Calculated Incentives | I26: Proposed Project Costs
B27: 15 | C27: ='Supp Meas Worksheet'!B201 -> Drain Water Heat Recovery | G27: =IFERROR(IF(AND(SUM('Supp Meas Worksheet'!B203:B206)>0,'Supp Meas Worksheet'!E3<>"SMB"),SUM('Supp Meas Worksheet'!B203:B206)*'Supp Meas Worksheet'!L205,0),0) -> 0 | J27: Prescriptive Total Estimated Incentive: | K27: =IFERROR(IF(B4="DAC",MIN((G14+G24+M12+G28),(K28*M4),G5),IF(B4<>"DAC",MIN((G14+G24+M12+G28),(K28*M4),G5),0)),0) -> 0
B28: Totals | G28: =SUM(G27) -> 0 | J28: Prescriptive Total Project Cost: | K28: ='Supp Meas Worksheet'!D29+'Supp Meas Worksheet'!D30+'Supp Meas Worksheet'!D37+'Supp Meas Worksheet'!D38+'Supp Meas Worksheet'!D50+'Supp Meas Worksheet'!D51+'Supp Meas Worksheet'!D66+'Supp Meas Worksheet'!D67+'Supp Meas Worksheet'!D81+'Supp Meas Worksheet'!D82+'Supp Meas Worksheet'!D98+'Supp Meas Worksheet'!D99+'Supp Meas Worksheet'!D106+'Supp Meas Worksheet'!D107+'Supp Meas Worksheet'!D116+'Supp Meas Worksheet'!D117+'Supp Meas Worksheet'!D125+'Supp Meas Worksheet'!D126+'Supp Meas Worksheet'!D134+'Supp Meas Worksheet'!D135+'Supp Meas Worksheet'!D152+'Supp Meas Worksheet'!D153+'Supp Meas Worksheet'!D170+'Supp Meas Worksheet'!D171+'Supp Meas Worksheet'!D179+'Supp Meas Worksheet'!D180+'Supp Meas Worksheet'!D197+'Supp Meas Worksheet'!D198+'Supp Meas Worksheet'!D207+'Supp Meas Worksheet'!D208+'Comp Air Measures'!H32+'Comp Air Measures'!H33+'Comp Air Measures'!H47+'Comp Air Measures'!H48+'Comp Air Measures'!H58+'Comp Air Measures'!H59+'Comp Air Measures'!H71+'Comp Air Measures'!H72+'Comp Air Measures'!H85+'Comp Air Measures'!H86 -> 0
J29: Custom Total Estimated Incentive: | K29: =IFERROR(IF(B4="DAC",MIN(M18,(K30*M4),M15),IF(B4<>"DAC",MIN(M18,(K30*M4),M15),0)),0) -> 0
J30: Custom Total Project Cost: | K30: ='Custom Worksheet'!G47 -> 0
A34: ***For TSS Use ONLY***
D35: Program Eligibility Override | E35: Select Program | F35: TSS Approver | H35: PM Approver | J35: Date
D36: TRUE

Sheet MRD-Post
B2: Program Minimum Requirements Document
B3: ='App Instruct'!A3 -> Supplemental Measures Program | E3: ='App Instruct'!F3
B6: Minimum Requirements Document (MRD) & Post Inspection Checklist
B7: The incentive outlined in the Customer Report is subject to National Grid’s post installation inspection and/or certification of completed installation by the customer of final specifications, record drawings, and operation of the proposed equipment outlined below. In the event the proposed system is altered from the above description, notify the Company of the change PRIOR to the equipment purchase and installation, as the change in design and operation may impact the available incentive. If National Grid's post inspection has measures not passing inspection National Grid reserves the right to revise calculated savings and incentives based on the post verified results.
B9: Inspected by: | H9: Date:
B10: Customer Name: | D10: ='App Cust Info'!A9 -> 0 | H10: Project Contractor: | J10: ='App Cust Info'!A46 -> 0
B11: Customer Contact: | D11: ='App Cust Info'!E9 -> 0 | H11: Contractor Phone #: | J11: ='App Cust Info'!A50 -> 0
B12: Address: | D12: ='App Cust Info'!A15&" "&'App Cust Info'!E15&", "&'App Cust Info'!H15&" "&'App Cust Info'!J15 -> , NY | H12: Contractor Contact: | J12: ='App Cust Info'!H46 -> 0
B13: Phone Number: | D13: ='App Cust Info'!A11 -> 0 | H13: Building Type: | J13: ='App Cust Info'!A21 -> 0
B14: Inspector Signature:
B17: Facility Details | H17: Post Verification
B18: Building HVAC System | E18: ='App Cust Info'!E21 -> 0 | H18: Is this accurate? | K18: If not, what is it? | L18: Heat Pump
B19: Air Handling | E19: ='App Cust Info'!I21 -> 0 | H19: Is this accurate? | K19: If not, what is it?
B20: Heating System Fuel Source | E20: ='App Cust Info'!A23 -> 0 | H20: Is this accurate? | K20: If not, what is it?
B21: Cooling System Fuel Source | E21: ='App Cust Info'!I23 -> 0 | H21: Is this accurate? | K21: If not, what is it?
B22: Existing Rated Eff. of Combined Cooler (> 32˚ F) Compressors | F22: ='App Cust Info'!A25 -> 0 | G22: kW/ton | H22: Is this value accurate? | K22: If not, what is value?
B23: Existing Rated Eff. of Combined Freezer (≤ 32˚ F) Compressors | F23: ='App Cust Info'!G25 -> 0 | G23: kW/ton | H23: Is this value accurate? | K23: If not, what is value?
B25: Air Compressor System Details
C26: ='Comp Air Measures'!A9 -> Manufacturer and Model Number | E26: =LEFT('Comp Air Measures'!A10,22) -> Type of Air Compressor | G26: ='Comp Air Measures'!A11 -> Age | H26: ='Comp Air Measures'!A12 -> Rated Horse Power | J26: =LEFT('Comp Air Measures'!A13,12) -> Control Type | K26: ='Comp Air Measures'!A15 -> Operating Pressure (PSIG)
B27: ='Comp Air Measures'!D8 -> Compressor #1 | C27: ='Comp Air Measures'!D9 -> 0 | E27: ='Comp Air Measures'!D10 -> 0 | G27: ='Comp Air Measures'!D11 -> 0 | H27: ='Comp Air Measures'!D12 -> 0 | J27: ='Comp Air Measures'!D13 -> 0 | K27: ='Comp Air Measures'!D15 -> 0
B28: ='Comp Air Measures'!E8 -> Compressor #2 | C28: ='Comp Air Measures'!E9 -> 0 | E28: ='Comp Air Measures'!E10 -> 0 | G28: ='Comp Air Measures'!E11 -> 0 | H28: ='Comp Air Measures'!E12 -> 0 | J28: ='Comp Air Measures'!E13 -> 0 | K28: ='Comp Air Measures'!E15 -> 0
B29: ='Comp Air Measures'!F8 -> Compressor #3 | C29: ='Comp Air Measures'!F9 -> 0 | E29: ='Comp Air Measures'!F10 -> 0 | G29: ='Comp Air Measures'!F11 -> 0 | H29: ='Comp Air Measures'!F12 -> 0 | J29: ='Comp Air Measures'!F13 -> 0 | K29: ='Comp Air Measures'!F15 -> 0
B30: ='Comp Air Measures'!G8 -> Compressor #4 | C30: ='Comp Air Measures'!G9 -> 0 | E30: ='Comp Air Measures'!G10 -> 0 | G30: ='Comp Air Measures'!G11 -> 0 | H30: ='Comp Air Measures'!G12 -> 0 | J30: ='Comp Air Measures'!G13 -> 0 | K30: ='Comp Air Measures'!G15 -> 0
B31: ='Comp Air Measures'!H8 -> Compressor #5 | C31: ='Comp Air Measures'!H9 -> 0 | E31: ='Comp Air Measures'!H10 -> 0 | G31: ='Comp Air Measures'!H11 -> 0 | H31: ='Comp Air Measures'!H12 -> 0 | J31: ='Comp Air Measures'!H13 -> 0 | K31: ='Comp Air Measures'!H15 -> 0
B33: ='Supp Meas Worksheet'!B8 -> Refrigeration and Controls Measures
B34: ='Supp Meas Worksheet'!B25 -> Air Cooled Refrigeration Condenser | G34: Post Verification
B35: Cooler Temp | D35: Number of Condensers | E35: Tons of Refrigeation per unit (nameplate of condenser) | G35: Quantity of Condensers? | H35: Tons of Refrigeration is accurate? | J35: If not, what is correct tonnage? | L35: Measure Passes Inspection
B36: ='Supp Meas Worksheet'!B35 -> Cooler (> 32˚F) | E36: ='Supp Meas Worksheet'!I35 -> 0
B37: ='Supp Meas Worksheet'!B36 -> Freezer (≤ 32˚F) | E37: ='Supp Meas Worksheet'!I36 -> 0
D38: =SUM(D36:D37) -> 0 | G38: =SUM(G36:G37) -> 0
B40: ='Supp Meas Worksheet'!B33 -> Automatic Door Closers for Walk-in Coolers or Freezers | G40: Post Verification
B41: Cooler Temp | E41: Total Number of Automatic Door Closers | G41: Quantity of of Automatic Door Closers Installed? | J41: Measure Passes Inspection
B42: ='Supp Meas Worksheet'!B35 -> Cooler (> 32˚F) | E42: ='Supp Meas Worksheet'!I42 -> 0
B43: ='Supp Meas Worksheet'!B36 -> Freezer (≤ 32˚F) | E43: ='Supp Meas Worksheet'!I43 -> 0
E44: =SUM(E42:F43) -> 0 | G44: =SUM(G42:I43) -> 0
B46: ='Supp Meas Worksheet'!B41 -> Installation of Doors on Existing Verticle Open Reach-in Display Case | G46: Post Verification
B47: Cooler Temp | D47: Proposed Door Type | E47: Total Length of Display Case Opening (ft) | G47: Measured Length of Display Case Opening | I47: Door Type is accurate? | K47: If not, what is it? | M47: Measure Passes Inspection
B48: ='Supp Meas Worksheet'!B48 -> Cooler (> 32˚F) | D48: ='Supp Meas Worksheet'!D48 -> 0 | E48: ='Supp Meas Worksheet'!F48 -> 0
B49: ='Supp Meas Worksheet'!B49 -> Freezer (≤ 32˚F) | E49: ='Supp Meas Worksheet'!F49 -> 0
E50: =SUM(E48:F49) -> 0 | G50: =SUM(G48:H49) -> 0
...

Sheet Table 6-ACHC
A1: ='Supp Meas Worksheet'!B85 -> Anti-Condensate Heater Controls for Walk-in and Reach-in Coolers and Freezers
A3: Calculations
A4: Location | B4: Temp | C4: Control Type | D4: # Doors/ Case | E4: # Cases | F4: Total # Doors | G4: Sq. Ft. of one door | H4: Total ft2 for all doors if Power details not provided on Meas Wkst. | I4: Total W from Door Sq. Ft. | J4: Total Anti-Cond Htr Power (WDH) | K4: COPref | L4: Calculated Incentive
A5: ='Supp Meas Worksheet'!B92 -> 0 | B5: ='Supp Meas Worksheet'!D92 -> 0 | C5: ='Supp Meas Worksheet'!N92 -> 0 | D5: ='Supp Meas Worksheet'!E92 -> 0 | E5: ='Supp Meas Worksheet'!C92 -> 0 | F5: =D5*E5 -> 0 | G5: ='Supp Meas Worksheet'!F92 -> 0 | H5: =IFERROR(IF(AND('Supp Meas Worksheet'!G92=0,OR('Supp Meas Worksheet'!I92=0,'Supp Meas Worksheet'!K92=0,'Supp Meas Worksheet'!L92=0)),F5*G5,0),0) -> 0 | I5: =IFERROR(H5*VLOOKUP(B5,$A$16:$B$17,2,FALSE),0) -> 0 | J5: =IF(I5>0,I5,IF('Supp Meas Worksheet'!G92>0,'Supp Meas Worksheet'!G92*'Table 6-ACHC'!E5,('Supp Meas Worksheet'!I92*'Supp Meas Worksheet'!K92*'Supp Meas Worksheet'!L92)*E5)) -> 0 | K5: =IFERROR(INDEX('Indirect Refrig Savings'!$J$3:$J$4,MATCH('Table 6-ACHC'!B5,'Indirect Refrig Savings'!$B$3:$B$4,0)),0) -> 0 | L5: =IF('Savings Summary'!B4<>"DAC",'Supp Meas Worksheet'!$L$88*E5*D5,IF('Savings Summary'!B4="DAC",'Supp Meas Worksheet'!$M$88*E5*D5,0)) -> 0
A6: ='Supp Meas Worksheet'!B93 -> 0 | B6: ='Supp Meas Worksheet'!D93 -> 0 | C6: ='Supp Meas Worksheet'!N93 -> 0 | D6: ='Supp Meas Worksheet'!E93 -> 0 | E6: ='Supp Meas Worksheet'!C93 -> 0 | F6: =D6*E6 -> 0 | G6: ='Supp Meas Worksheet'!F93 -> 0 | H6: =IFERROR(IF(AND('Supp Meas Worksheet'!G93=0,OR('Supp Meas Worksheet'!I93=0,'Supp Meas Worksheet'!K93=0,'Supp Meas Worksheet'!L93=0)),F6*G6,0),0) -> 0 | I6: =IFERROR(H6*VLOOKUP(B6,$A$16:$B$17,2,FALSE),0) -> 0 | J6: =IF(I6>0,I6,IF('Supp Meas Worksheet'!G93>0,'Supp Meas Worksheet'!G93*'Table 6-ACHC'!E6,('Supp Meas Worksheet'!I93*'Supp Meas Worksheet'!K93*'Supp Meas Worksheet'!L93)*E6)) -> 0 | K6: =IFERROR(INDEX('Indirect Refrig Savings'!$J$3:$J$4,MATCH('Table 6-ACHC'!B6,'Indirect Refrig Savings'!$B$3:$B$4,0)),0) -> 0 | L6: =IF('Savings Summary'!B6<>"DAC",'Supp Meas Worksheet'!$L$88*E6*D6,IF('Savings Summary'!B6="DAC",'Supp Meas Worksheet'!$M$88*E6*D6,0)) -> 0
A7: ='Supp Meas Worksheet'!B94 -> 0 | B7: ='Supp Meas Worksheet'!D94 -> 0 | C7: ='Supp Meas Worksheet'!N94 -> 0 | D7: ='Supp Meas Worksheet'!E94 -> 0 | E7: ='Supp Meas Worksheet'!C94 -> 0 | F7: =D7*E7 -> 0 | G7: ='Supp Meas Worksheet'!F94 -> 0 | H7: =IFERROR(IF(AND('Supp Meas Worksheet'!G94=0,OR('Supp Meas Worksheet'!I94=0,'Supp Meas Worksheet'!K94=0,'Supp Meas Worksheet'!L94=0)),F7*G7,0),0) -> 0 | I7: =IFERROR(H7*VLOOKUP(B7,$A$16:$B$17,2,FALSE),0) -> 0 | J7: =IF(I7>0,I7,IF('Supp Meas Worksheet'!G94>0,'Supp Meas Worksheet'!G94*'Table 6-ACHC'!E7,('Supp Meas Worksheet'!I94*'Supp Meas Worksheet'!K94*'Supp Meas Worksheet'!L94)*E7)) -> 0 | K7: =IFERROR(INDEX('Indirect Refrig Savings'!$J$3:$J$4,MATCH('Table 6-ACHC'!B7,'Indirect Refrig Savings'!$B$3:$B$4,0)),0) -> 0 | L7: =IF('Savings Summary'!C7<>"DAC",'Supp Meas Worksheet'!$L$88*E7*D7,IF('Savings Summary'!C7="DAC",'Supp Meas Worksheet'!$M$88*E7*D7,0)) -> 0
A8: ='Supp Meas Worksheet'!B95 -> 0 | B8: ='Supp Meas Worksheet'!D95 -> 0 | C8: ='Supp Meas Worksheet'!N95 -> 0 | D8: ='Supp Meas Worksheet'!E95 -> 0 | E8: ='Supp Meas Worksheet'!C95 -> 0 | F8: =D8*E8 -> 0 | G8: ='Supp Meas Worksheet'!F95 -> 0 | H8: =IFERROR(IF(AND('Supp Meas Worksheet'!G95=0,OR('Supp Meas Worksheet'!I95=0,'Supp Meas Worksheet'!K95=0,'Supp Meas Worksheet'!L95=0)),F8*G8,0),0) -> 0 | I8: =IFERROR(H8*VLOOKUP(B8,$A$16:$B$17,2,FALSE),0) -> 0 | J8: =IF(I8>0,I8,IF('Supp Meas Worksheet'!G95>0,'Supp Meas Worksheet'!G95*'Table 6-ACHC'!E8,('Supp Meas Worksheet'!I95*'Supp Meas Worksheet'!K95*'Supp Meas Worksheet'!L95)*E8)) -> 0 | K8: =IFERROR(INDEX('Indirect Refrig Savings'!$J$3:$J$4,MATCH('Table 6-ACHC'!B8,'Indirect Refrig Savings'!$B$3:$B$4,0)),0) -> 0 | L8: =IF('Savings Summary'!C8<>"DAC",'Supp Meas Worksheet'!$L$88*E8*D8,IF('Savings Summary'!C8="DAC",'Supp Meas Worksheet'!$M$88*E8*D8,0)) -> 0
A9: ='Supp Meas Worksheet'!B96 -> 0 | B9: ='Supp Meas Worksheet'!D96 -> 0 | C9: ='Supp Meas Worksheet'!N96 -> 0 | D9: ='Supp Meas Worksheet'!E96 -> 0 | E9: ='Supp Meas Worksheet'!C96 -> 0 | F9: =D9*E9 -> 0 | G9: ='Supp Meas Worksheet'!F96 -> 0 | H9: =IFERROR(IF(AND('Supp Meas Worksheet'!G96=0,OR('Supp Meas Worksheet'!I96=0,'Supp Meas Worksheet'!K96=0,'Supp Meas Worksheet'!L96=0)),F9*G9,0),0) -> 0 | I9: =IFERROR(H9*VLOOKUP(B9,$A$16:$B$17,2,FALSE),0) -> 0 | J9: =IF(I9>0,I9,IF('Supp Meas Worksheet'!G96>0,'Supp Meas Worksheet'!G96*'Table 6-ACHC'!E9,('Supp Meas Worksheet'!I96*'Supp Meas Worksheet'!K96*'Supp Meas Worksheet'!L96)*E9)) -> 0 | K9: =IFERROR(INDEX('Indirect Refrig Savings'!$J$3:$J$4,MATCH('Table 6-ACHC'!B9,'Indirect Refrig Savings'!$B$3:$B$4,0)),0) -> 0 | L9: =IF('Savings Summary'!C9<>"DAC",'Supp Meas Worksheet'!$L$88*E9*D9,IF('Savings Summary'!C9="DAC",'Supp Meas Worksheet'!$M$88*E9*D9,0)) -> 0
A10: ='Supp Meas Worksheet'!B97 -> 0 | B10: ='Supp Meas Worksheet'!D97 -> 0 | C10: ='Supp Meas Worksheet'!N97 -> 0 | D10: ='Supp Meas Worksheet'!E97 -> 0 | E10: ='Supp Meas Worksheet'!C97 -> 0 | F10: =D10*E10 -> 0 | G10: ='Supp Meas Worksheet'!F97 -> 0 | H10: =IFERROR(IF(AND('Supp Meas Worksheet'!G97=0,OR('Supp Meas Worksheet'!I97=0,'Supp Meas Worksheet'!K97=0,'Supp Meas Worksheet'!L97=0)),F10*G10,0),0) -> 0 | I10: =IFERROR(H10*VLOOKUP(B10,$A$16:$B$17,2,FALSE),0) -> 0 | J10: =IF(I10>0,I10,IF('Supp Meas Worksheet'!G97>0,'Supp Meas Worksheet'!G97*'Table 6-ACHC'!E10,('Supp Meas Worksheet'!I97*'Supp Meas Worksheet'!K97*'Supp Meas Worksheet'!L97)*E10)) -> 0 | K10: =IFERROR(INDEX('Indirect Refrig Savings'!$J$3:$J$4,MATCH('Table 6-ACHC'!B10,'Indirect Refrig Savings'!$B$3:$B$4,0)),0) -> 0 | L10: =IF('Savings Summary'!C10<>"DAC",'Supp Meas Worksheet'!$L$88*E10*D10,IF('Savings Summary'!C10="DAC",'Supp Meas Worksheet'!$M$88*E10*D10,0)) -> 0
A13: NYS TRM - Version 13
B15: W/ft2 | E15: On/Off Control
A16: ='Indirect Refrig Savings'!B3 -> Cooler (> 32˚F) | B16: 3 | E16: Pulse-Width Modulation Control
A17: ='Indirect Refrig Savings'!B4 -> Freezer (≤ 32˚F) | B17: 7.1

Sheet Reference
A1: Building Types | B1: Reference | C1: Appendix G Ref | E1: Zip Code | F1: City | G1: TRM City | H1: County | I1: Climate Zone | K1: City & HVAC | L1: City | M1: HVAC System | N1: HVACc | O1: HVACd | P1: HVACff | R1: Product | S1: SHIFTNIMO | T1: SHIFTNIMODAC | U1: SHIFTKEDLI/ KEDNY | V1: SHIFTKEDLI/ KEDNYDAC | W1: SMBNIMO | X1: SMBNIMODAC | Y1: SMBKEDLI/ KEDNY | Z1: SMBKEDLI/ KEDNYDAC | AB1: Product | AC1: SHIFTNIMOE | AD1: SHIFTNIMOE & G | AE1: SHIFTNIMOG | AF1: SHIFTKEDLI/ KEDNYG | AG1: SMBNIMOE | AH1: SMBDACNIMOE | AI1: SMBNIMOE & G | AJ1: SMBDACNIMOE & G | AK1: SMBNIMOG | AL1: SMBDACNIMOG | AM1: SMBKEDLI/ KEDNYG | AN1: SMBDACKEDLI/ KEDNYG
A2: Assembly | B2: Assembly | C2: Assembly | E2: 501 | F2: Holtsville | G2: NYC | H2: Suffolk | I2: 4 | K2: AlbanyAC with Fuel Heat | L2: Albany | M2: AC with Fuel Heat | N2: 0.0552 | O2: 0.1478 | P2: -0.0011 | R2: ='Savings Summary'!C7 -> Automatic Door Closers for Walk-in Coolers or Freezers | S2: 300 | T2: 300 | U2: NA | V2: NA | W2: 350 | X2: 400 | Y2: NA | Z2: NA | AB2: Custom | AC2: 0.2 | AD2: 4 | AE2: 4 | AF2: 3 | AG2: 1.25 | AH2: 1.5 | AI2: 10 | AJ2: 12 | AK2: 10 | AL2: 12 | AM2: 12 | AN2: 14
A3: Auto Repair | B3: Auto Repair | C3: Auto Repair | E3: 544 | F3: Holtsville | G3: NYC | H3: Suffolk | I3: 4 | K3: BinghamtonAC with Fuel Heat | L3: Binghamton | M3: AC with Fuel Heat | N3: 0.0478 | O3: 0.1478 | P3: -0.0012 | R3: ='Savings Summary'!C8 -> Air Cooled Refrigeration Condenser | S3: 3000 | T3: 3000 | U3: NA | V3: NA | W3: 3500 | X3: 4000 | Y3: NA | Z3: NA
A4: Bakery | B4: Restaurant | C4: Small Retail | E4: 6390 | F4: Fishers Island | G4: NYC | H4: Suffolk | I4: 4 | K4: BuffaloAC with Fuel Heat | L4: Buffalo | M4: AC with Fuel Heat | N4: 0.0534 | O4: 0.1478 | P4: -0.0012 | R4: ='Savings Summary'!C9&"Standard Efficiency Door" -> Installation of Doors on Existing Verticle Open Reach-in Display CaseStandard Efficiency Door | S4: 350 | T4: 350 | U4: 350 | V4: 350 | W4: 350 | X4: 400 | Y4: 400 | Z4: 450
A5: Community College | B5: Restaurant | C5: Community College | E5: 10001 | F5: New York | G5: NYC | H5: New York | I5: 4 | K5: MassenaAC with Fuel Heat | L5: Massena | M5: AC with Fuel Heat | N5: 0.0487 | O5: 0.1478 | P5: -0.0012 | R5: ='Savings Summary'!C9&"High Efficiency Door" -> Installation of Doors on Existing Verticle Open Reach-in Display CaseHigh Efficiency Door | S5: 500 | T5: 500 | U5: 500 | V5: 500 | W5: 500 | X5: 600 | Y5: 550 | Z5: 650
A6: Convenience Store | B6: Convenience Store | C6: Small Retail | E6: 10002 | F6: New York | G6: NYC | H6: New York | I6: 4 | K6: NYCAC with Fuel Heat | L6: NYC | M6: AC with Fuel Heat | N6: 0.0628 | O6: 0.1478 | P6: -0.001 | R6: ='Savings Summary'!C10 -> Evaporator Fan Motor Replacement - Permanent Magnet Synchronous Motor (PMSM) | S6: 250 | T6: 250 | U6: NA | V6: NA | W6: 275 | X6: 325 | Y6: NA | Z6: NA
A7: Dormitory | B7: Dormitory | C7: Dormitory | E7: 10003 | F7: New York | G7: NYC | H7: New York | I7: 4 | K7: PoughkeepsieAC with Fuel Heat | L7: Poughkeepsie | M7: AC with Fuel Heat | N7: 0.0584 | O7: 0.1478 | P7: -0.0011 | R7: ='Savings Summary'!C11 -> Walk-in Refrigerator or Freezer Evaporator Fan Motor Controls | S7: 500 | T7: 500 | U7: NA | V7: NA | W7: 550 | X7: 600 | Y7: NA | Z7: NA
A8: Food Stores - Grocery | B8: Grocery | C8: Grocery | E8: 10004 | F8: New York | G8: NYC | H8: New York | I8: 4 | K8: SyracuseAC with Fuel Heat | L8: Syracuse | M8: AC with Fuel Heat | N8: 0.0544 | O8: 0.1478 | P8: -0.0012 | R8: ='Savings Summary'!C12 -> Anti-Condensate Heater Controls for Walk-in and Reach-in Coolers and Freezers | S8: 250 | T8: 250 | U8: NA | V8: NA | W8: 300 | X8: 350 | Y8: NA | Z8: NA
A9: High School | B9: Restaurant | C9: High School | E9: 10005 | F9: New York | G9: NYC | H9: New York | I9: 4 | K9: AlbanyChilled Water with Fuel Heat | L9: Albany | M9: Chilled Water with Fuel Heat | N9: 0.0321 | O9: 0.086 | P9: -0.0011 | R9: ='Savings Summary'!C13 -> Floating Head Pressure Control | S9: 300 | T9: 300 | U9: NA | V9: NA | W9: 350 | X9: 400 | Y9: NA | Z9: NA
A10: Hospitals/ Health Care | B10: Restaurant | C10: Hospital | E10: 10006 | F10: New York | G10: NYC | H10: New York | I10: 4 | K10: BinghamtonChilled Water with Fuel Heat | L10: Binghamton | M10: Chilled Water with Fuel Heat | N10: 0.0278 | O10: 0.086 | P10: -0.0012 | R10: ='Savings Summary'!C17 -> Advanced Rooftop Unit Control | S10: Custom | T10: Custom | U10: Custom | V10: Custom | W10: 4000 | X10: 4500 | Y10: 4500 | Z10: 5000
A11: Hotel | B11: Restaurant | C11: Hotel | E11: 10007 | F11: New York | G11: NYC | H11: New York | I11: 4 | K11: BuffaloChilled Water with Fuel Heat | L11: Buffalo | M11: Chilled Water with Fuel Heat | N11: 0.0311 | O11: 0.086 | P11: -0.0012 | R11: ='Savings Summary'!C18 -> Demand Control Ventilation | S11: Custom | T11: Custom | U11: Custom | V11: Custom | W11: 1.5 | X11: 2 | Y11: 1.75 | Z11: 2.25
A12: Light Industrial | B12: Light Industrial | C12: Light Industrial | E12: 10008 | F12: New York | G12: NYC | H12: New York | I12: 4 | K12: MassenaChilled Water with Fuel Heat | L12: Massena | M12: Chilled Water with Fuel Heat | N12: 0.0283 | O12: 0.086 | P12: -0.0012 | R12: ='Savings Summary'!C19 -> Kitchen Hood Demand Control Ventilation | S12: 1500 | T12: 1500 | U12: 1500 | V12: 1500 | W12: 1500 | X12: 1750 | Y12: 1600 | Z12: 1850
A13: Motel | B13: Restaurant | C13: Motel | E13: 10009 | F13: New York | G13: NYC | H13: New York | I13: 4 | K13: NYCChilled Water with Fuel Heat | L13: NYC | M13: Chilled Water with Fuel Heat | N13: 0.0365 | O13: 0.086 | P13: -0.001 | R13: ='Savings Summary'!C20 -> Energy Recovery Ventilator (Sensible & Latent Heat) | S13: Custom | T13: Custom | U13: Custom | V13: Custom | W13: NA | X13: NA | Y13: NA | Z13: NA
A14: Movie Theater | B14: Restaurant | C14: Assembly | E14: 10010 | F14: New York | G14: NYC | H14: New York | I14: 4 | K14: PoughkeepsieChilled Water with Fuel Heat | L14: Poughkeepsie | M14: Chilled Water with Fuel Heat | N14: 0.034 | O14: 0.086 | P14: -0.0011 | R14: ='Savings Summary'!C21 -> Heat Recovery Ventilator (Sensible Heat) | S14: Custom | T14: Custom | U14: Custom | V14: Custom | W14: 10 | X14: 12 | Y14: 11 | Z14: 13
A15: Office - Large | B15: Large Office | C15: Large Office | E15: 10011 | F15: New York | G15: NYC | H15: New York | I15: 4 | K15: SyracuseChilled Water with Fuel Heat | L15: Syracuse | M15: Chilled Water with Fuel Heat | N15: 0.0317 | O15: 0.086 | P15: -0.0012 | R15: ='Savings Summary'!C22 -> Communicating Thermostat | S15: Custom | T15: Custom | U15: Custom | V15: Custom | W15: 250 | X15: 300 | Y15: 300 | Z15: 350
A16: Office - Small | B16: Small Office | C16: Small Office | E16: 10012 | F16: New York | G16: NYC | H16: New York | I16: 4 | K16: AlbanyHeat Pump | L16: Albany | M16: Heat Pump | N16: -0.0633 | O16: 0.1478 | P16: 0 | R16: ='Savings Summary'!C23 -> Hotel/ Motel Guest Room Energy Management System (Occ Sensor) | S16: 300 | T16: 300 | U16: 300 | V16: 300 | W16: 300 | X16: 350 | Y16: 350 | Z16: 400
A17: Penitentiary | B17: Restaurant | C17: Hospital | E17: 10013 | F17: New York | G17: NYC | H17: New York | I17: 4 | K17: BinghamtonHeat Pump | L17: Binghamton | M17: Heat Pump | N17: -0.0806 | O17: 0.1478 | P17: 0 | R17: ='Savings Summary'!C27 -> Drain Water Heat Recovery | S17: 1500 | T17: 1500 | U17: 1500 | V17: 1500 | W17: NA | X17: NA | Y17: NA | Z17: NA
A18: Primary School | B18: Restaurant | C18: Primary School | E18: 10014 | F18: New York | G18: NYC | H18: New York | I18: 4 | K18: BuffaloHeat Pump | L18: Buffalo | M18: Heat Pump | N18: -0.0688 | O18: 0.1478 | P18: 0 | R18: ='Savings Summary'!J7 -> Air Compressor Replacement | S18: 500 | T18: 500 | U18: NA | V18: NA | W18: 550 | X18: 600 | Y18: NA | Z18: NA
A19: Refrigerated Warehouse | B19: Grocery | C19: Warehouse | E19: 10015 | F19: New York | G19: NYC | H19: New York | I19: 4 | K19: MassenaHeat Pump | L19: Massena | M19: Heat Pump | N19: -0.081 | O19: 0.1478 | P19: 0 | R19: ='Savings Summary'!J8 -> Compressed Air Flow Controller | S19: 80 | T19: 80 | U19: NA | V19: NA | W19: 100 | X19: 120 | Y19: NA | Z19: NA
A20: Religious Worship | B20: Religious Worship | C20: Religious Worship | E20: 10016 | F20: New York | G20: NYC | H20: New York | I20: 4 | K20: NYCHeat Pump | L20: NYC | M20: Heat Pump | N20: -0.0378 | O20: 0.1478 | P20: 0 | R20: ='Savings Summary'!J9 -> Refrigerated Compressed Air Dryer | S20: 20 | T20: 20 | U20: NA | V20: NA | W20: 24 | X20: 29 | Y20: NA | Z20: NA
A21: Restaurant - Fast Food | B21: Restaurant | C21: Fast Food Restaurant | E21: 10017 | F21: New York | G21: NYC | H21: New York | I21: 4 | K21: PoughkeepsieHeat Pump | L21: Poughkeepsie | M21: Heat Pump | N21: -0.0546 | O21: 0.1478 | P21: 0 | R21: ='Savings Summary'!J10 -> Compressed Air Low Pressure Drop Filter | S21: 50 | T21: 50 | U21: NA | V21: NA | W21: 60 | X21: 85 | Y21: NA | Z21: NA
A22: Restaurant - Full Service | B22: Restaurant | C22: Full Service Restaurant | E22: 10018 | F22: New York | G22: NYC | H22: New York | I22: 4 | K22: SyracuseHeat Pump | L22: Syracuse | M22: Heat Pump | N22: -0.0662 | O22: 0.1478 | P22: 0 | R22: ='Savings Summary'!J11 -> Compressed Air Zero Loss Condensate Drain | S22: 1000 | T22: 1000 | U22: NA | V22: NA | W22: 1500 | X22: 1700 | Y22: NA | Z22: NA
A23: Retail - Big Box | B23: Grocery | C23: Big Box Retail | E23: 10019 | F23: New York | G23: NYC | H23: New York | I23: 4 | K23: AlbanyAC with Elec Resistance Heat | L23: Albany | M23: AC with Elec Resistance Heat | N23: -0.2114 | O23: 0.1478 | P23: 0
A24: Retail - Large | B24: Grocery | C24: Large Retail | E24: 10020 | F24: New York | G24: NYC | H24: New York | I24: 4 | K24: BinghamtonAC with Elec Resistance Heat | L24: Binghamton | M24: AC with Elec Resistance Heat | N24: -0.2411 | O24: 0.1478 | P24: 0
A25: Retail - Small | B25: Small Retail | C25: Small Retail | E25: 10021 | F25: New York | G25: NYC | H25: New York | I25: 4 | K25: BuffaloAC with Elec Resistance Heat | L25: Buffalo | M25: AC with Elec Resistance Heat | N25: -0.2215 | O25: 0.1478 | P25: 0
A26: University | B26: Restaurant | C26: University | E26: 10022 | F26: New York | G26: NYC | H26: New York | I26: 4 | K26: MassenaAC with Elec Resistance Heat | L26: Massena | M26: AC with Elec Resistance Heat | N26: -0.2431 | O26: 0.1478 | P26: 0
A27: Warehouse | B27: Warehouse | C27: Warehouse | E27: 10023 | F27: New York | G27: NYC | H27: New York | I27: 4 | K27: NYCAC with Elec Resistance Heat | L27: NYC | M27: AC with Elec Resistance Heat | N27: -0.1636 | O27: 0.1478 | P27: 0
E28: 10024 | F28: New York | G28: NYC | H28: New York | I28: 4 | K28: PoughkeepsieAC with Elec Resistance Heat | L28: Poughkeepsie | M28: AC with Elec Resistance Heat | N28: -0.1958 | O28: 0.1478 | P28: 0
E29: 10025 | F29: New York | G29: NYC | H29: New York | I29: 4 | K29: SyracuseAC with Elec Resistance Heat | L29: Syracuse | M29: AC with Elec Resistance Heat | N29: -0.217 | O29: 0.1478 | P29: 0
A30: States | E30: 10026 | F30: New York | G30: NYC | H30: New York | I30: 4 | K30: AlbanyChilled Water with Elec Resistance Heat | L30: Albany | M30: Chilled Water with Elec Resistance Heat | N30: -0.2344 | O30: 0.086 | P30: 0
A31: NY | E31: 10027 | F31: New York | G31: NYC | H31: New York | I31: 4 | K31: BinghamtonChilled Water with Elec Resistance Heat | L31: Binghamton | M31: Chilled Water with Elec Resistance Heat | N31: -0.261 | O31: 0.086 | P31: 0
A32: AL | E32: 10028 | F32: New York | G32: NYC | H32: New York | I32: 4 | K32: BuffaloChilled Water with Elec Resistance Heat | L32: Buffalo | M32: Chilled Water with Elec Resistance Heat | N32: -0.2438 | O32: 0.086 | P32: 0
A33: AK | E33: 10029 | F33: New York | G33: NYC | H33: New York | I33: 4 | K33: MassenaChilled Water with Elec Resistance Heat | L33: Massena | M33: Chilled Water with Elec Resistance Heat | N33: -0.2635 | O33: 0.086 | P33: 0
A34: AZ | E34: 10030 | F34: New York | G34: NYC | H34: New York | I34: 4 | K34: NYCChilled Water with Elec Resistance Heat | L34: NYC | M34: Chilled Water with Elec Resistance Heat | N34: -0.1898 | O34: 0.086 | P34: 0
A35: AR | E35: 10031 | F35: New York | G35: NYC | H35: New York | I35: 4 | K35: PoughkeepsieChilled Water with Elec Resistance Heat | L35: Poughkeepsie | M35: Chilled Water with Elec Resistance Heat | N35: -0.2202 | O35: 0.086 | P35: 0
A36: CA | E36: 10032 | F36: New York | G36: NYC | H36: New York | I36: 4 | K36: SyracuseChilled Water with Elec Resistance Heat | L36: Syracuse | M36: Chilled Water with Elec Resistance Heat | N36: -0.2398 | O36: 0.086 | P36: 0
