BEGIN:VCALENDAR
PRODID: -//Microsoft Corporation//Outlook 12.0 MIMEDIR//EN
VERSION:2.0
METHOD:PUBLISH
BEGIN:VEVENT
DTSTART:20210610T060000Z
DTEND:20210610T060000Z
LOCATION:
TRANSP:TRANSPARENT
SEQUENCE:0
UID:667
DTSTAMP:20210610T060000Z
DESCRIPTION:
SUMMARY:Scrip reference price announced
PRIORITY:5
X-MICROSOFT-CDO-IMPORTANCE:1
CLASS:PUBLIC
X-MICROSOFT-CDO-BUSYSTATUS:
END:VEVENT
END:VCALENDAR
