BEGIN:VCALENDAR
PRODID: -//Microsoft Corporation//Outlook 12.0 MIMEDIR//EN
VERSION:2.0
METHOD:PUBLISH
BEGIN:VEVENT
DTSTART:20210603T060000Z
DTEND:20210603T060000Z
LOCATION:
TRANSP:TRANSPARENT
SEQUENCE:0
UID:802
DTSTAMP:20210603T060000Z
DESCRIPTION:
SUMMARY:ADRs and Ordinary shares go ex-dividend
PRIORITY:5
X-MICROSOFT-CDO-IMPORTANCE:1
CLASS:PUBLIC
X-MICROSOFT-CDO-BUSYSTATUS:
END:VEVENT
END:VCALENDAR
